BEGIN:VCALENDAR
VERSION:2.0
PRODID:-//CHGA - ECPv6.15.20//NONSGML v1.0//EN
CALSCALE:GREGORIAN
METHOD:PUBLISH
X-WR-CALNAME:CHGA
X-ORIGINAL-URL:https://www.chga.fm
X-WR-CALDESC:évènements pour CHGA
REFRESH-INTERVAL;VALUE=DURATION:PT1H
X-Robots-Tag:noindex
X-PUBLISHED-TTL:PT1H
BEGIN:VTIMEZONE
TZID:America/Toronto
BEGIN:DAYLIGHT
TZOFFSETFROM:-0500
TZOFFSETTO:-0400
TZNAME:EDT
DTSTART:20200308T070000
END:DAYLIGHT
BEGIN:STANDARD
TZOFFSETFROM:-0400
TZOFFSETTO:-0500
TZNAME:EST
DTSTART:20201101T060000
END:STANDARD
BEGIN:DAYLIGHT
TZOFFSETFROM:-0500
TZOFFSETTO:-0400
TZNAME:EDT
DTSTART:20210314T070000
END:DAYLIGHT
BEGIN:STANDARD
TZOFFSETFROM:-0400
TZOFFSETTO:-0500
TZNAME:EST
DTSTART:20211107T060000
END:STANDARD
BEGIN:DAYLIGHT
TZOFFSETFROM:-0500
TZOFFSETTO:-0400
TZNAME:EDT
DTSTART:20220313T070000
END:DAYLIGHT
BEGIN:STANDARD
TZOFFSETFROM:-0400
TZOFFSETTO:-0500
TZNAME:EST
DTSTART:20221106T060000
END:STANDARD
END:VTIMEZONE
BEGIN:VEVENT
DTSTART;TZID=America/Toronto:20211025T080000
DTEND;TZID=America/Toronto:20211025T170000
DTSTAMP:20260421T165742
CREATED:20211015T193757Z
LAST-MODIFIED:20211015T193757Z
UID:390097-1635148800-1635181200@www.chga.fm
SUMMARY:Mani-Majy Danse - Cours de danse
DESCRIPTION:Mani-Majy Danse vous offre des cours de danse en ligne\, ainsi que des cours de danse en couple. Ceux-ci devraient commencer le 25 octobre prochain. \nLes professeurs sont Monsieur Mario Marcil et Madame Julie Gravel. \nPour plus d’informations et pour s’inscrire\, téléphonez au 819 334-4510 ou au 819 209-9531. \nVous devrez fournir votre passeport vaccinal ainsi qu’une pièce d’identité.
URL:https://www.chga.fm/evenement/mani-majy-danse-cours-de-danse/
LOCATION:QC\, Canada
END:VEVENT
END:VCALENDAR