BEGIN:VCALENDAR
VERSION:2.0
PRODID:-//CHGA - ECPv6.15.20//NONSGML v1.0//EN
CALSCALE:GREGORIAN
METHOD:PUBLISH
X-WR-CALNAME:CHGA
X-ORIGINAL-URL:https://www.chga.fm
X-WR-CALDESC:évènements pour CHGA
REFRESH-INTERVAL;VALUE=DURATION:PT1H
X-Robots-Tag:noindex
X-PUBLISHED-TTL:PT1H
BEGIN:VTIMEZONE
TZID:America/Toronto
BEGIN:DAYLIGHT
TZOFFSETFROM:-0500
TZOFFSETTO:-0400
TZNAME:EDT
DTSTART:20200308T070000
END:DAYLIGHT
BEGIN:STANDARD
TZOFFSETFROM:-0400
TZOFFSETTO:-0500
TZNAME:EST
DTSTART:20201101T060000
END:STANDARD
BEGIN:DAYLIGHT
TZOFFSETFROM:-0500
TZOFFSETTO:-0400
TZNAME:EDT
DTSTART:20210314T070000
END:DAYLIGHT
BEGIN:STANDARD
TZOFFSETFROM:-0400
TZOFFSETTO:-0500
TZNAME:EST
DTSTART:20211107T060000
END:STANDARD
BEGIN:DAYLIGHT
TZOFFSETFROM:-0500
TZOFFSETTO:-0400
TZNAME:EDT
DTSTART:20220313T070000
END:DAYLIGHT
BEGIN:STANDARD
TZOFFSETFROM:-0400
TZOFFSETTO:-0500
TZNAME:EST
DTSTART:20221106T060000
END:STANDARD
END:VTIMEZONE
BEGIN:VEVENT
DTSTART;TZID=America/Toronto:20210915T193000
DTEND;TZID=America/Toronto:20210915T193000
DTSTAMP:20260421T200031
CREATED:20210831T120242Z
LAST-MODIFIED:20210831T120242Z
UID:386857-1631734200-1631734200@www.chga.fm
SUMMARY:Logement en santé Vallée-de-la-Gatineau - Assemblée générale annuelle
DESCRIPTION:Logement en Santé Vallée-de-la-Gatineau procédera à son Assemblée Générale annuelle\, en mode virtuel\, le mercredi 15 septembre 2021 à partir de 19h30. \nLe lien de rencontre sera publié sur la page Facebook de la Table de développement social Vallée-de-la-Gatineau dans les jours précédent l’événement. Il est possible de demander ce lien de rencontre par courriel au mdanis@tdsvg.com \nToute personne physique\, de 18 ans et plus\, intéressée par les buts et activités de l’organisme et manifestant son appui à la mission de l’organisme est le bienvenu.
URL:https://www.chga.fm/evenement/logement-en-sante-vallee-de-la-gatineau-assemblee-generale-annuelle/
LOCATION:QC\, Canada
END:VEVENT
END:VCALENDAR