BEGIN:VCALENDAR
VERSION:2.0
PRODID:-//CHGA - ECPv6.15.20//NONSGML v1.0//EN
CALSCALE:GREGORIAN
METHOD:PUBLISH
X-WR-CALNAME:CHGA
X-ORIGINAL-URL:https://www.chga.fm
X-WR-CALDESC:évènements pour CHGA
REFRESH-INTERVAL;VALUE=DURATION:PT1H
X-Robots-Tag:noindex
X-PUBLISHED-TTL:PT1H
BEGIN:VTIMEZONE
TZID:America/Toronto
BEGIN:DAYLIGHT
TZOFFSETFROM:-0500
TZOFFSETTO:-0400
TZNAME:EDT
DTSTART:20200308T070000
END:DAYLIGHT
BEGIN:STANDARD
TZOFFSETFROM:-0400
TZOFFSETTO:-0500
TZNAME:EST
DTSTART:20201101T060000
END:STANDARD
BEGIN:DAYLIGHT
TZOFFSETFROM:-0500
TZOFFSETTO:-0400
TZNAME:EDT
DTSTART:20210314T070000
END:DAYLIGHT
BEGIN:STANDARD
TZOFFSETFROM:-0400
TZOFFSETTO:-0500
TZNAME:EST
DTSTART:20211107T060000
END:STANDARD
BEGIN:DAYLIGHT
TZOFFSETFROM:-0500
TZOFFSETTO:-0400
TZNAME:EDT
DTSTART:20220313T070000
END:DAYLIGHT
BEGIN:STANDARD
TZOFFSETFROM:-0400
TZOFFSETTO:-0500
TZNAME:EST
DTSTART:20221106T060000
END:STANDARD
END:VTIMEZONE
BEGIN:VEVENT
DTSTART;TZID=America/Toronto:20210819T080000
DTEND;TZID=America/Toronto:20210819T170000
DTSTAMP:20260421T195352
CREATED:20210803T173731Z
LAST-MODIFIED:20210812T142638Z
UID:10015921-1629360000-1629392400@www.chga.fm
SUMMARY:L’événement Racethehalf
DESCRIPTION:L’événement Racethehalf qui aura lieu les 4 et 5 septembre prochain à l’aéroport de Maniwaki est à la recherche de bénévoles afin d’aider au niveau de la circulation des gens sur le site.  Le dîner est offert. \nSi vous êtes intéressés\, textez au 418 915 0560 ou par courriel au inscription@racethehalf.com ou sur notre page facebook racethehalf.
URL:https://www.chga.fm/evenement/levenement-racethehalf/2021-08-19/
LOCATION:QC\, Canada
END:VEVENT
END:VCALENDAR