BEGIN:VCALENDAR
VERSION:2.0
PRODID:-//CHGA - ECPv6.15.20//NONSGML v1.0//EN
CALSCALE:GREGORIAN
METHOD:PUBLISH
X-WR-CALNAME:CHGA
X-ORIGINAL-URL:https://www.chga.fm
X-WR-CALDESC:évènements pour CHGA
REFRESH-INTERVAL;VALUE=DURATION:PT1H
X-Robots-Tag:noindex
X-PUBLISHED-TTL:PT1H
BEGIN:VTIMEZONE
TZID:America/Toronto
BEGIN:DAYLIGHT
TZOFFSETFROM:-0500
TZOFFSETTO:-0400
TZNAME:EDT
DTSTART:20200308T070000
END:DAYLIGHT
BEGIN:STANDARD
TZOFFSETFROM:-0400
TZOFFSETTO:-0500
TZNAME:EST
DTSTART:20201101T060000
END:STANDARD
BEGIN:DAYLIGHT
TZOFFSETFROM:-0500
TZOFFSETTO:-0400
TZNAME:EDT
DTSTART:20210314T070000
END:DAYLIGHT
BEGIN:STANDARD
TZOFFSETFROM:-0400
TZOFFSETTO:-0500
TZNAME:EST
DTSTART:20211107T060000
END:STANDARD
BEGIN:DAYLIGHT
TZOFFSETFROM:-0500
TZOFFSETTO:-0400
TZNAME:EDT
DTSTART:20220313T070000
END:DAYLIGHT
BEGIN:STANDARD
TZOFFSETFROM:-0400
TZOFFSETTO:-0500
TZNAME:EST
DTSTART:20221106T060000
END:STANDARD
END:VTIMEZONE
BEGIN:VEVENT
DTSTART;TZID=America/Toronto:20210821T130000
DTEND;TZID=America/Toronto:20210821T170000
DTSTAMP:20260421T195400
CREATED:20210812T192910Z
LAST-MODIFIED:20210812T193045Z
UID:10015985-1629550800-1629565200@www.chga.fm
SUMMARY:Les trouvailles de la Bonne Mère
DESCRIPTION:Les trouvailles de la Bonne Mère ouvre le deuxième étage de la salle du Christ-Roi\, 128 rue du Christ-Roi \nDeux étages de découvertes à faire :  -meubles -appareils électriques et tout ce dont une famille a besoin. \nLes heures seront prolongées du 18 au 21 août 2021 de 13h à 17 h.
URL:https://www.chga.fm/evenement/les-trouvailles-de-la-bonne-mere-2/2021-08-21/
LOCATION:Sous-Sol de l’église Christ-Roi\, Canada
END:VEVENT
END:VCALENDAR