BEGIN:VCALENDAR
VERSION:2.0
PRODID:-//CHGA - ECPv6.15.20//NONSGML v1.0//EN
CALSCALE:GREGORIAN
METHOD:PUBLISH
X-WR-CALNAME:CHGA
X-ORIGINAL-URL:https://www.chga.fm
X-WR-CALDESC:évènements pour CHGA
REFRESH-INTERVAL;VALUE=DURATION:PT1H
X-Robots-Tag:noindex
X-PUBLISHED-TTL:PT1H
BEGIN:VTIMEZONE
TZID:America/Toronto
BEGIN:DAYLIGHT
TZOFFSETFROM:-0500
TZOFFSETTO:-0400
TZNAME:EDT
DTSTART:20190310T070000
END:DAYLIGHT
BEGIN:STANDARD
TZOFFSETFROM:-0400
TZOFFSETTO:-0500
TZNAME:EST
DTSTART:20191103T060000
END:STANDARD
BEGIN:DAYLIGHT
TZOFFSETFROM:-0500
TZOFFSETTO:-0400
TZNAME:EDT
DTSTART:20200308T070000
END:DAYLIGHT
BEGIN:STANDARD
TZOFFSETFROM:-0400
TZOFFSETTO:-0500
TZNAME:EST
DTSTART:20201101T060000
END:STANDARD
BEGIN:DAYLIGHT
TZOFFSETFROM:-0500
TZOFFSETTO:-0400
TZNAME:EDT
DTSTART:20210314T070000
END:DAYLIGHT
BEGIN:STANDARD
TZOFFSETFROM:-0400
TZOFFSETTO:-0500
TZNAME:EST
DTSTART:20211107T060000
END:STANDARD
END:VTIMEZONE
BEGIN:VEVENT
DTSTART;TZID=America/Toronto:20200922T190000
DTEND;TZID=America/Toronto:20200922T190000
DTSTAMP:20260422T142559
CREATED:20200914T171932Z
LAST-MODIFIED:20200914T171932Z
UID:10015228-1600801200-1600801200@www.chga.fm
SUMMARY:Les Joyeux danseurs du club de danse Mont-Laurier inc. - Inscriptions
DESCRIPTION:« Les joyeux danseurs du club de danse Mont-Laurier Inc. » vous invitent à leur séance d’inscriptions pour la session d’automne.Le tout se tiendra à la salle McLaren du centre sportif Jacques Lesage\,  les 22 et 23 septembre prochain.  Le 22 septembre à 19 h pour les débutants et à 20 h 15  pour le groupe intermédiaire.Le 23 septembre à 19 h pour le groupe avancé.Veuillez vous présenter 30 minutes à l’avance pour l’inscription.   \nPour plus d’informations contactez Huguette au 819-623-5639 ou Danielle au 819-623-5779.
URL:https://www.chga.fm/evenement/les-joyeux-danseurs-du-club-de-danse-mont-laurier-inc-inscriptions/2020-09-22/
LOCATION:Centre Sportif Jacques-Lesage\, 801\, rue Alix\, Mont-Laurier\, QC\, J9L 2V9\, Canada
END:VEVENT
END:VCALENDAR