BEGIN:VCALENDAR
VERSION:2.0
PRODID:-//CHGA - ECPv6.15.20//NONSGML v1.0//EN
CALSCALE:GREGORIAN
METHOD:PUBLISH
X-WR-CALNAME:CHGA
X-ORIGINAL-URL:https://www.chga.fm
X-WR-CALDESC:évènements pour CHGA
REFRESH-INTERVAL;VALUE=DURATION:PT1H
X-Robots-Tag:noindex
X-PUBLISHED-TTL:PT1H
BEGIN:VTIMEZONE
TZID:America/Toronto
BEGIN:DAYLIGHT
TZOFFSETFROM:-0500
TZOFFSETTO:-0400
TZNAME:EDT
DTSTART:20210314T070000
END:DAYLIGHT
BEGIN:STANDARD
TZOFFSETFROM:-0400
TZOFFSETTO:-0500
TZNAME:EST
DTSTART:20211107T060000
END:STANDARD
BEGIN:DAYLIGHT
TZOFFSETFROM:-0500
TZOFFSETTO:-0400
TZNAME:EDT
DTSTART:20220313T070000
END:DAYLIGHT
BEGIN:STANDARD
TZOFFSETFROM:-0400
TZOFFSETTO:-0500
TZNAME:EST
DTSTART:20221106T060000
END:STANDARD
BEGIN:DAYLIGHT
TZOFFSETFROM:-0500
TZOFFSETTO:-0400
TZNAME:EDT
DTSTART:20230312T070000
END:DAYLIGHT
BEGIN:STANDARD
TZOFFSETFROM:-0400
TZOFFSETTO:-0500
TZNAME:EST
DTSTART:20231105T060000
END:STANDARD
END:VTIMEZONE
BEGIN:VEVENT
DTSTART;TZID=America/Toronto:20220406T110000
DTEND;TZID=America/Toronto:20220406T170000
DTSTAMP:20260421T082127
CREATED:20211025T174258Z
LAST-MODIFIED:20220324T133511Z
UID:390578-1649242800-1649264400@www.chga.fm
SUMMARY:Les filles d'Isabelle de Maniwaki - Messe suivi d'une réunion
DESCRIPTION:Les filles d’Isabelle de Maniwaki invite ses membres le 06 avril \, à la cabane à sucre Clément Tremblay de Blue Sea pour  participer à la messe de 11 h 00 suivi d’une réunion à 13 h 00 .  \nLe coût est de 26.$ par personne . \nVous devez réserver votre place avant le 04 avril 2022 en contactant :  \n      – Mme Léona Clément au 819-463-2825 \nou  – Mme Nicole au 819-334-3939
URL:https://www.chga.fm/evenement/les-filles-disabelle-de-maniwaki-assemblee-generale-annuelle/
LOCATION:Cabane à sucre\, QC\, Canada
END:VEVENT
END:VCALENDAR