BEGIN:VCALENDAR
VERSION:2.0
PRODID:-//CHGA - ECPv6.15.20//NONSGML v1.0//EN
CALSCALE:GREGORIAN
METHOD:PUBLISH
X-WR-CALNAME:CHGA
X-ORIGINAL-URL:https://www.chga.fm
X-WR-CALDESC:évènements pour CHGA
REFRESH-INTERVAL;VALUE=DURATION:PT1H
X-Robots-Tag:noindex
X-PUBLISHED-TTL:PT1H
BEGIN:VTIMEZONE
TZID:America/Toronto
BEGIN:DAYLIGHT
TZOFFSETFROM:-0500
TZOFFSETTO:-0400
TZNAME:EDT
DTSTART:20210314T070000
END:DAYLIGHT
BEGIN:STANDARD
TZOFFSETFROM:-0400
TZOFFSETTO:-0500
TZNAME:EST
DTSTART:20211107T060000
END:STANDARD
BEGIN:DAYLIGHT
TZOFFSETFROM:-0500
TZOFFSETTO:-0400
TZNAME:EDT
DTSTART:20220313T070000
END:DAYLIGHT
BEGIN:STANDARD
TZOFFSETFROM:-0400
TZOFFSETTO:-0500
TZNAME:EST
DTSTART:20221106T060000
END:STANDARD
BEGIN:DAYLIGHT
TZOFFSETFROM:-0500
TZOFFSETTO:-0400
TZNAME:EDT
DTSTART:20230312T070000
END:DAYLIGHT
BEGIN:STANDARD
TZOFFSETFROM:-0400
TZOFFSETTO:-0500
TZNAME:EST
DTSTART:20231105T060000
END:STANDARD
END:VTIMEZONE
BEGIN:VEVENT
DTSTART;TZID=America/Toronto:20220712T153000
DTEND;TZID=America/Toronto:20220712T153000
DTSTAMP:20260421T014245
CREATED:20220511T172728Z
LAST-MODIFIED:20220511T172728Z
UID:10015480-1657639800-1657639800@www.chga.fm
SUMMARY:Les ateliers de groupe pour femmes
DESCRIPTION:Les ateliers de groupe pour femmes reprennent chez Halte-Femme! Ils débuteront le mardi 31 mai 2022. Ils seront offerts à tous les mardis de 13h30 à 15h30. \nPour plus d’informations ou pour vous s’inscrire\, téléphonez au 819 449-4545.
URL:https://www.chga.fm/evenement/les-ateliers-de-groupe-pour-femmes/2022-07-12/
LOCATION:QC\, Canada
END:VEVENT
END:VCALENDAR