BEGIN:VCALENDAR
VERSION:2.0
PRODID:-//CHGA - ECPv6.15.20//NONSGML v1.0//EN
CALSCALE:GREGORIAN
METHOD:PUBLISH
X-WR-CALNAME:CHGA
X-ORIGINAL-URL:https://www.chga.fm
X-WR-CALDESC:évènements pour CHGA
REFRESH-INTERVAL;VALUE=DURATION:PT1H
X-Robots-Tag:noindex
X-PUBLISHED-TTL:PT1H
BEGIN:VTIMEZONE
TZID:America/Toronto
BEGIN:DAYLIGHT
TZOFFSETFROM:-0500
TZOFFSETTO:-0400
TZNAME:EDT
DTSTART:20210314T070000
END:DAYLIGHT
BEGIN:STANDARD
TZOFFSETFROM:-0400
TZOFFSETTO:-0500
TZNAME:EST
DTSTART:20211107T060000
END:STANDARD
BEGIN:DAYLIGHT
TZOFFSETFROM:-0500
TZOFFSETTO:-0400
TZNAME:EDT
DTSTART:20220313T070000
END:DAYLIGHT
BEGIN:STANDARD
TZOFFSETFROM:-0400
TZOFFSETTO:-0500
TZNAME:EST
DTSTART:20221106T060000
END:STANDARD
BEGIN:DAYLIGHT
TZOFFSETFROM:-0500
TZOFFSETTO:-0400
TZNAME:EDT
DTSTART:20230312T070000
END:DAYLIGHT
BEGIN:STANDARD
TZOFFSETFROM:-0400
TZOFFSETTO:-0500
TZNAME:EST
DTSTART:20231105T060000
END:STANDARD
END:VTIMEZONE
BEGIN:VEVENT
DTSTART;TZID=America/Toronto:20220424T130000
DTEND;TZID=America/Toronto:20220424T130000
DTSTAMP:20260421T081557
CREATED:20220414T131733Z
LAST-MODIFIED:20220414T131733Z
UID:400066-1650805200-1650805200@www.chga.fm
SUMMARY:Légion Maniwaki AGA/ AGM et Élections
DESCRIPTION:Bonjour à tous/ Hi everyone\, \nAn english message will follow\, \nLes membres et le public sont invités à l’Assemblée Générale et Élections de la légion Royale Canadienne Filiale 187 de Maniwaki\, qui se tiendra à l’église St-Patrick de Maniwaki\, le dimanche 24 avril 2022 à 13h00. L’Assemblée se déroulera\, effectivement\, avec les consignes sanitaires. Les masques pourront être retirés une fois assis à la table.  \nIl serait préférable de confirmer votre présence d’avance aux courriels suivant: mbegley@live.ca ou mbegley@live.ca \nÉglise St-Patrick\, 253\, rue Des Oblats à Maniwaki. Members and the public are invited to the Annual General Meeting and Elections of the Royal Canadian Legion Branch 187 Maniwaki\, that will be held at St-Patrick’s Church in Maniwaki\, on Saturday April 24th 2022 at 1:00 pm. \nThe meeting will be held with Covid sanitary healt instruction of hand washing and mask off at the table only. \nIt would be nice to confirm your presence before at mbegley@live.ca or mbegley@live.ca \nChurch St-Patrick 253\, rue Des Oblats at Maniwaki \nMarc Begley \nPrésident et tout notre comité.
URL:https://www.chga.fm/evenement/legion-maniwaki-aga-agm-et-elections/
LOCATION:Paroisse St-Patrick\, 253\, rue des Oblats\, Maniwaki\, QC\, J9E 1G6\, Canada
END:VEVENT
END:VCALENDAR