BEGIN:VCALENDAR
VERSION:2.0
PRODID:-//CHGA - ECPv6.15.20//NONSGML v1.0//EN
CALSCALE:GREGORIAN
METHOD:PUBLISH
X-WR-CALNAME:CHGA
X-ORIGINAL-URL:https://www.chga.fm
X-WR-CALDESC:évènements pour CHGA
REFRESH-INTERVAL;VALUE=DURATION:PT1H
X-Robots-Tag:noindex
X-PUBLISHED-TTL:PT1H
BEGIN:VTIMEZONE
TZID:America/Toronto
BEGIN:DAYLIGHT
TZOFFSETFROM:-0500
TZOFFSETTO:-0400
TZNAME:EDT
DTSTART:20190310T070000
END:DAYLIGHT
BEGIN:STANDARD
TZOFFSETFROM:-0400
TZOFFSETTO:-0500
TZNAME:EST
DTSTART:20191103T060000
END:STANDARD
BEGIN:DAYLIGHT
TZOFFSETFROM:-0500
TZOFFSETTO:-0400
TZNAME:EDT
DTSTART:20200308T070000
END:DAYLIGHT
BEGIN:STANDARD
TZOFFSETFROM:-0400
TZOFFSETTO:-0500
TZNAME:EST
DTSTART:20201101T060000
END:STANDARD
BEGIN:DAYLIGHT
TZOFFSETFROM:-0500
TZOFFSETTO:-0400
TZNAME:EDT
DTSTART:20210314T070000
END:DAYLIGHT
BEGIN:STANDARD
TZOFFSETFROM:-0400
TZOFFSETTO:-0500
TZNAME:EST
DTSTART:20211107T060000
END:STANDARD
END:VTIMEZONE
BEGIN:VEVENT
DTSTART;TZID=America/Toronto:20201205T120000
DTEND;TZID=America/Toronto:20201205T160000
DTSTAMP:20260422T092859
CREATED:20201110T150144Z
LAST-MODIFIED:20201110T150144Z
UID:372257-1607169600-1607184000@www.chga.fm
SUMMARY:Le marché Les Saveurs de la Vallée /Première édition de son marché de Noël
DESCRIPTION: Le marché agricole « Les Saveurs de la Vallée » tiendra cette année pour la toute première fois un marché de Noël le samedi le 5 décembre prochain entre midi et 16h au 66 rue St-Joseph à Gracefield. \nLes soupers de Noël arrivent à grand pas et malgré l’incertitude d’avoir ou non l’autorisation de se réunir aux fêtes\, l’événement aura tout de même lieu. \nTout comme l’édition d’octobre lors du marché de l’Action de Grâce\, la chef et sommelière Marie-Papilles et le chef Rodeley Adolphe tiendront une cantine lors de l’événement afin de vous faire goûter aux produits locaux. \nLe marché a mis en place les mesures nécessaires afin de réduire les risques de propagation de la COVID-19 tel que proposé par l’Association des Marchés publics du Québec (AMPQ). Nous remercions tous les participants et participantes de leur collaboration dans ce contexte hors de l’ordinaire
URL:https://www.chga.fm/evenement/le-marche-les-saveurs-de-la-vallee-premiere-edition-de-son-marche-de-noel/
LOCATION:Le marché agricole\, 66 St-Joseph\, Gracefield\, Québec
ORGANIZER;CN="March%C3%A9 Les Saveurs de la Vall%C3%A9e":MAILTO:Info@lessaveursdelavallee.com
END:VEVENT
END:VCALENDAR