BEGIN:VCALENDAR
VERSION:2.0
PRODID:-//CHGA - ECPv6.15.20//NONSGML v1.0//EN
CALSCALE:GREGORIAN
METHOD:PUBLISH
X-WR-CALNAME:CHGA
X-ORIGINAL-URL:https://www.chga.fm
X-WR-CALDESC:évènements pour CHGA
REFRESH-INTERVAL;VALUE=DURATION:PT1H
X-Robots-Tag:noindex
X-PUBLISHED-TTL:PT1H
BEGIN:VTIMEZONE
TZID:America/Toronto
BEGIN:DAYLIGHT
TZOFFSETFROM:-0500
TZOFFSETTO:-0400
TZNAME:EDT
DTSTART:20210314T070000
END:DAYLIGHT
BEGIN:STANDARD
TZOFFSETFROM:-0400
TZOFFSETTO:-0500
TZNAME:EST
DTSTART:20211107T060000
END:STANDARD
BEGIN:DAYLIGHT
TZOFFSETFROM:-0500
TZOFFSETTO:-0400
TZNAME:EDT
DTSTART:20220313T070000
END:DAYLIGHT
BEGIN:STANDARD
TZOFFSETFROM:-0400
TZOFFSETTO:-0500
TZNAME:EST
DTSTART:20221106T060000
END:STANDARD
BEGIN:DAYLIGHT
TZOFFSETFROM:-0500
TZOFFSETTO:-0400
TZNAME:EDT
DTSTART:20230312T070000
END:DAYLIGHT
BEGIN:STANDARD
TZOFFSETFROM:-0400
TZOFFSETTO:-0500
TZNAME:EST
DTSTART:20231105T060000
END:STANDARD
END:VTIMEZONE
BEGIN:VEVENT
DTSTART;TZID=America/Toronto:20221129T130000
DTEND;TZID=America/Toronto:20221129T130000
DTSTAMP:20260420T235839
CREATED:20220915T121235Z
LAST-MODIFIED:20230529T135805Z
UID:10018088-1669726800-1669726800@www.chga.fm
SUMMARY:Le club FADOQ les bons vivants de Bouchette vous invite
DESCRIPTION:Le club FADOQ les bons vivants de Bouchette vous invite a venir les rejoindre à la salle municipale de Bouchette \nLes mardis à 13h pour jouer au petit bingo; \nPour plus d’informations\, contactez Suzanne Poirier 819-465-2573.
URL:https://www.chga.fm/evenement/le-club-fadoq-les-bons-vivants-de-bouchette-vous-invitent/2022-11-29/
LOCATION:QC\, Canada
END:VEVENT
END:VCALENDAR