BEGIN:VCALENDAR
VERSION:2.0
PRODID:-//CHGA - ECPv6.15.20//NONSGML v1.0//EN
CALSCALE:GREGORIAN
METHOD:PUBLISH
X-WR-CALNAME:CHGA
X-ORIGINAL-URL:https://www.chga.fm
X-WR-CALDESC:évènements pour CHGA
REFRESH-INTERVAL;VALUE=DURATION:PT1H
X-Robots-Tag:noindex
X-PUBLISHED-TTL:PT1H
BEGIN:VTIMEZONE
TZID:America/Toronto
BEGIN:DAYLIGHT
TZOFFSETFROM:-0500
TZOFFSETTO:-0400
TZNAME:EDT
DTSTART:20190310T070000
END:DAYLIGHT
BEGIN:STANDARD
TZOFFSETFROM:-0400
TZOFFSETTO:-0500
TZNAME:EST
DTSTART:20191103T060000
END:STANDARD
BEGIN:DAYLIGHT
TZOFFSETFROM:-0500
TZOFFSETTO:-0400
TZNAME:EDT
DTSTART:20200308T070000
END:DAYLIGHT
BEGIN:STANDARD
TZOFFSETFROM:-0400
TZOFFSETTO:-0500
TZNAME:EST
DTSTART:20201101T060000
END:STANDARD
BEGIN:DAYLIGHT
TZOFFSETFROM:-0500
TZOFFSETTO:-0400
TZNAME:EDT
DTSTART:20210314T070000
END:DAYLIGHT
BEGIN:STANDARD
TZOFFSETFROM:-0400
TZOFFSETTO:-0500
TZNAME:EST
DTSTART:20211107T060000
END:STANDARD
END:VTIMEZONE
BEGIN:VEVENT
DTSTART;TZID=America/Toronto:20201215T180000
DTEND;TZID=America/Toronto:20201215T180000
DTSTAMP:20260422T093435
CREATED:20201126T132243Z
LAST-MODIFIED:20201126T132243Z
UID:373320-1608055200-1608055200@www.chga.fm
SUMMARY:La Note Verte  -  Assemblée Générale Annuelle
DESCRIPTION:Nous vous invitons à notre Assemblée générale annuelle le 15 Décembre à 18 Hrs. \nPar Visioconférence \nNous contacter Via notre page Facebook ou par courriel: \nlanotevertevg@gmail.com \nMartin Carle \nCoordonnateur \n819-816-1185
URL:https://www.chga.fm/evenement/la-note-verte-assemblee-generale-annuelle/
LOCATION:QC\, Canada
END:VEVENT
END:VCALENDAR