BEGIN:VCALENDAR
VERSION:2.0
PRODID:-//CHGA - ECPv6.15.20//NONSGML v1.0//EN
CALSCALE:GREGORIAN
METHOD:PUBLISH
X-WR-CALNAME:CHGA
X-ORIGINAL-URL:https://www.chga.fm
X-WR-CALDESC:évènements pour CHGA
REFRESH-INTERVAL;VALUE=DURATION:PT1H
X-Robots-Tag:noindex
X-PUBLISHED-TTL:PT1H
BEGIN:VTIMEZONE
TZID:America/Toronto
BEGIN:DAYLIGHT
TZOFFSETFROM:-0500
TZOFFSETTO:-0400
TZNAME:EDT
DTSTART:20210314T070000
END:DAYLIGHT
BEGIN:STANDARD
TZOFFSETFROM:-0400
TZOFFSETTO:-0500
TZNAME:EST
DTSTART:20211107T060000
END:STANDARD
BEGIN:DAYLIGHT
TZOFFSETFROM:-0500
TZOFFSETTO:-0400
TZNAME:EDT
DTSTART:20220313T070000
END:DAYLIGHT
BEGIN:STANDARD
TZOFFSETFROM:-0400
TZOFFSETTO:-0500
TZNAME:EST
DTSTART:20221106T060000
END:STANDARD
BEGIN:DAYLIGHT
TZOFFSETFROM:-0500
TZOFFSETTO:-0400
TZNAME:EDT
DTSTART:20230312T070000
END:DAYLIGHT
BEGIN:STANDARD
TZOFFSETFROM:-0400
TZOFFSETTO:-0500
TZNAME:EST
DTSTART:20231105T060000
END:STANDARD
END:VTIMEZONE
BEGIN:VEVENT
DTSTART;TZID=America/Toronto:20220911T090000
DTEND;TZID=America/Toronto:20220911T100000
DTSTAMP:20260421T000021
CREATED:20220906T140151Z
LAST-MODIFIED:20220906T140151Z
UID:408825-1662886800-1662890400@www.chga.fm
SUMMARY:La marche du rein
DESCRIPTION:La Fondation du rein organise une marche de 5 km pour appuyer les personnes atteintes d’une maladie rénale et promouvoir le don d’organes le dimanche 11 septembre prochain au coin des rues Des Oblats et Laurier à Maniwaki. Les inscriptions sont à 9h et le départ sera dès 10h. \nPour toute demande de renseignement : 1-800-565-4515 ou lamarche@rein.ca
URL:https://www.chga.fm/evenement/la-marche-du-rein/
LOCATION:QC\, Canada
END:VEVENT
END:VCALENDAR