BEGIN:VCALENDAR
VERSION:2.0
PRODID:-//CHGA - ECPv6.15.20//NONSGML v1.0//EN
CALSCALE:GREGORIAN
METHOD:PUBLISH
X-WR-CALNAME:CHGA
X-ORIGINAL-URL:https://www.chga.fm
X-WR-CALDESC:évènements pour CHGA
REFRESH-INTERVAL;VALUE=DURATION:PT1H
X-Robots-Tag:noindex
X-PUBLISHED-TTL:PT1H
BEGIN:VTIMEZONE
TZID:America/Toronto
BEGIN:DAYLIGHT
TZOFFSETFROM:-0500
TZOFFSETTO:-0400
TZNAME:EDT
DTSTART:20200308T070000
END:DAYLIGHT
BEGIN:STANDARD
TZOFFSETFROM:-0400
TZOFFSETTO:-0500
TZNAME:EST
DTSTART:20201101T060000
END:STANDARD
BEGIN:DAYLIGHT
TZOFFSETFROM:-0500
TZOFFSETTO:-0400
TZNAME:EDT
DTSTART:20210314T070000
END:DAYLIGHT
BEGIN:STANDARD
TZOFFSETFROM:-0400
TZOFFSETTO:-0500
TZNAME:EST
DTSTART:20211107T060000
END:STANDARD
BEGIN:DAYLIGHT
TZOFFSETFROM:-0500
TZOFFSETTO:-0400
TZNAME:EDT
DTSTART:20220313T070000
END:DAYLIGHT
BEGIN:STANDARD
TZOFFSETFROM:-0400
TZOFFSETTO:-0500
TZNAME:EST
DTSTART:20221106T060000
END:STANDARD
END:VTIMEZONE
BEGIN:VEVENT
DTSTART;TZID=America/Toronto:20210912T090000
DTEND;TZID=America/Toronto:20210912T170000
DTSTAMP:20260421T195831
CREATED:20210908T135011Z
LAST-MODIFIED:20210908T135011Z
UID:387459-1631437200-1631466000@www.chga.fm
SUMMARY:La marche du rein 2021
DESCRIPTION:La Fondation du rein organise une marche de 5 km pour appuyer les personnes atteintes d’une maladie rénale et promouvoir le don d’organes. \nCette marche aura lieu le dimanche 12 septembre prochain aux abords de la Rivière Désert sur la rue des Oblats\, à Maniwaki. \nL’accueil se fera à 9 h 00 et le départ à 10 h 00. \nPour plus d’informations\, contactez Madame Sonia Poulin par téléphone au 873 771-0064 ou par courriel au sonia.poulin@rein.ca
URL:https://www.chga.fm/evenement/la-marche-du-rein-2021/
LOCATION:QC\, Canada
END:VEVENT
END:VCALENDAR