BEGIN:VCALENDAR
VERSION:2.0
PRODID:-//CHGA - ECPv6.15.20//NONSGML v1.0//EN
CALSCALE:GREGORIAN
METHOD:PUBLISH
X-WR-CALNAME:CHGA
X-ORIGINAL-URL:https://www.chga.fm
X-WR-CALDESC:évènements pour CHGA
REFRESH-INTERVAL;VALUE=DURATION:PT1H
X-Robots-Tag:noindex
X-PUBLISHED-TTL:PT1H
BEGIN:VTIMEZONE
TZID:America/Toronto
BEGIN:DAYLIGHT
TZOFFSETFROM:-0500
TZOFFSETTO:-0400
TZNAME:EDT
DTSTART:20210314T070000
END:DAYLIGHT
BEGIN:STANDARD
TZOFFSETFROM:-0400
TZOFFSETTO:-0500
TZNAME:EST
DTSTART:20211107T060000
END:STANDARD
BEGIN:DAYLIGHT
TZOFFSETFROM:-0500
TZOFFSETTO:-0400
TZNAME:EDT
DTSTART:20220313T070000
END:DAYLIGHT
BEGIN:STANDARD
TZOFFSETFROM:-0400
TZOFFSETTO:-0500
TZNAME:EST
DTSTART:20221106T060000
END:STANDARD
BEGIN:DAYLIGHT
TZOFFSETFROM:-0500
TZOFFSETTO:-0400
TZNAME:EDT
DTSTART:20230312T070000
END:DAYLIGHT
BEGIN:STANDARD
TZOFFSETFROM:-0400
TZOFFSETTO:-0500
TZNAME:EST
DTSTART:20231105T060000
END:STANDARD
END:VTIMEZONE
BEGIN:VEVENT
DTSTART;TZID=America/Toronto:20221020T190000
DTEND;TZID=America/Toronto:20221020T190000
DTSTAMP:20260421T000354
CREATED:20220830T121446Z
LAST-MODIFIED:20220830T121559Z
UID:10017854-1666292400-1666292400@www.chga.fm
SUMMARY:La Ligue de sac de sable
DESCRIPTION:La ligue de sac de sable les bons amis du Caye se déroulera tous les jeudi soir à la salle municipale de Cayamant à 19h. La saison débute le 8 septembre et se terminera le 13 ou le 20 avril. Le coût est de 4$ par personne vous êtes tous bienvenue au plaisir de vous revoir.
URL:https://www.chga.fm/evenement/la-ligue-de-sac-de-sable/2022-10-20/
LOCATION:QC\, Canada
END:VEVENT
END:VCALENDAR