BEGIN:VCALENDAR
VERSION:2.0
PRODID:-//CHGA - ECPv6.15.20//NONSGML v1.0//EN
CALSCALE:GREGORIAN
METHOD:PUBLISH
X-WR-CALNAME:CHGA
X-ORIGINAL-URL:https://www.chga.fm
X-WR-CALDESC:évènements pour CHGA
REFRESH-INTERVAL;VALUE=DURATION:PT1H
X-Robots-Tag:noindex
X-PUBLISHED-TTL:PT1H
BEGIN:VTIMEZONE
TZID:America/Toronto
BEGIN:DAYLIGHT
TZOFFSETFROM:-0500
TZOFFSETTO:-0400
TZNAME:EDT
DTSTART:20190310T070000
END:DAYLIGHT
BEGIN:STANDARD
TZOFFSETFROM:-0400
TZOFFSETTO:-0500
TZNAME:EST
DTSTART:20191103T060000
END:STANDARD
BEGIN:DAYLIGHT
TZOFFSETFROM:-0500
TZOFFSETTO:-0400
TZNAME:EDT
DTSTART:20200308T070000
END:DAYLIGHT
BEGIN:STANDARD
TZOFFSETFROM:-0400
TZOFFSETTO:-0500
TZNAME:EST
DTSTART:20201101T060000
END:STANDARD
BEGIN:DAYLIGHT
TZOFFSETFROM:-0500
TZOFFSETTO:-0400
TZNAME:EDT
DTSTART:20210314T070000
END:DAYLIGHT
BEGIN:STANDARD
TZOFFSETFROM:-0400
TZOFFSETTO:-0500
TZNAME:EST
DTSTART:20211107T060000
END:STANDARD
END:VTIMEZONE
BEGIN:VEVENT
DTSTART;TZID=America/Toronto:20201215T090000
DTEND;TZID=America/Toronto:20201215T150000
DTSTAMP:20260422T092335
CREATED:20201201T140942Z
LAST-MODIFIED:20201201T140942Z
UID:10015742-1608022800-1608044400@www.chga.fm
SUMMARY:La fabrique du Père Noël du centre Saint-Eugène
DESCRIPTION:À chaque année\, l’équipe du centre Saint-Eugène prépare sa vente de Noël avec des œuvres produites par nos élèves avec l’aide du personnel de l’école. \nCette année\, nous avons dû procéder différemment avec une vente en ligne. Notre équipe a travaillé d’arrache-pied pour adapter les différentes activités à la réalité pandémique. \nAinsi\, du 1er au 15 décembre\, la population est invitée à visiter notre site web https://clomodu.wixsite.com/noel pour voir nos œuvres et réserver vos achats en nous écrivant directement sur le site pour ensuite venir chercher les produits choisis aux portes de l’école au 67 Chemin de la Rivière Gatineau N\, Déléage\, durant nos heures d’ouverture: \ndu 01 au 04\, du 07 au 11 \, le 14 et 15 déc.  de 9h à 15h. \nLes fonds recueillis serviront à financer nos activités et à gâter nos élèves.
URL:https://www.chga.fm/evenement/la-fabrique-du-pere-noel-du-centre-saint-eugene-3/2020-12-15/
LOCATION:QC\, Canada
END:VEVENT
END:VCALENDAR