BEGIN:VCALENDAR
VERSION:2.0
PRODID:-//CHGA - ECPv6.15.20//NONSGML v1.0//EN
CALSCALE:GREGORIAN
METHOD:PUBLISH
X-WR-CALNAME:CHGA
X-ORIGINAL-URL:https://www.chga.fm
X-WR-CALDESC:évènements pour CHGA
REFRESH-INTERVAL;VALUE=DURATION:PT1H
X-Robots-Tag:noindex
X-PUBLISHED-TTL:PT1H
BEGIN:VTIMEZONE
TZID:America/Toronto
BEGIN:DAYLIGHT
TZOFFSETFROM:-0500
TZOFFSETTO:-0400
TZNAME:EDT
DTSTART:20200308T070000
END:DAYLIGHT
BEGIN:STANDARD
TZOFFSETFROM:-0400
TZOFFSETTO:-0500
TZNAME:EST
DTSTART:20201101T060000
END:STANDARD
BEGIN:DAYLIGHT
TZOFFSETFROM:-0500
TZOFFSETTO:-0400
TZNAME:EDT
DTSTART:20210314T070000
END:DAYLIGHT
BEGIN:STANDARD
TZOFFSETFROM:-0400
TZOFFSETTO:-0500
TZNAME:EST
DTSTART:20211107T060000
END:STANDARD
BEGIN:DAYLIGHT
TZOFFSETFROM:-0500
TZOFFSETTO:-0400
TZNAME:EDT
DTSTART:20220313T070000
END:DAYLIGHT
BEGIN:STANDARD
TZOFFSETFROM:-0400
TZOFFSETTO:-0500
TZNAME:EST
DTSTART:20221106T060000
END:STANDARD
END:VTIMEZONE
BEGIN:VEVENT
DTSTART;TZID=America/Toronto:20211205T163000
DTEND;TZID=America/Toronto:20211205T203000
DTSTAMP:20260421T153049
CREATED:20211130T192953Z
LAST-MODIFIED:20211130T192953Z
UID:392569-1638721800-1638736200@www.chga.fm
SUMMARY:L' OPP de L'école Christ Roi de Maniwaki - Souper Spaghetti
DESCRIPTION:L’OPP de l’école Christ Roi de Maniwaki vous à venir vous délecter au Bistro du Château\, dimanche 5 décembre\, à 16h30\, dans le cadre de leur levée de fond.  \nLe repas spaghetti est au coût de  10$ pour les 3 à 11 ans\, 15$ pour les 12 ans et plus et gratuit pour les moins de 2 ans.  \nLe repas inclut:  une assiette de spaghetti\, un petit pain et un dessert. (Breuvage non inclus.) \nLes profits de cette levée de fond seront destinés à payer les frais pour les activités ainsi que le dîner de Noël qui sera servi à l’école.  \n*Passeport vaccinal requis* \nBillet repas en prévente par les élèves ou sur place le jour même. 
URL:https://www.chga.fm/evenement/l-opp-de-lecole-christ-roi-de-maniwaki-souper-spaghetti/
LOCATION:Bistro du Château\, 12\, Rue Comeau\, Maniwaki\, QC\, J9E 2R8\, Canada
END:VEVENT
END:VCALENDAR