BEGIN:VCALENDAR
VERSION:2.0
PRODID:-//CHGA - ECPv6.15.20//NONSGML v1.0//EN
CALSCALE:GREGORIAN
METHOD:PUBLISH
X-WR-CALNAME:CHGA
X-ORIGINAL-URL:https://www.chga.fm
X-WR-CALDESC:évènements pour CHGA
REFRESH-INTERVAL;VALUE=DURATION:PT1H
X-Robots-Tag:noindex
X-PUBLISHED-TTL:PT1H
BEGIN:VTIMEZONE
TZID:America/Toronto
BEGIN:DAYLIGHT
TZOFFSETFROM:-0500
TZOFFSETTO:-0400
TZNAME:EDT
DTSTART:20210314T070000
END:DAYLIGHT
BEGIN:STANDARD
TZOFFSETFROM:-0400
TZOFFSETTO:-0500
TZNAME:EST
DTSTART:20211107T060000
END:STANDARD
BEGIN:DAYLIGHT
TZOFFSETFROM:-0500
TZOFFSETTO:-0400
TZNAME:EDT
DTSTART:20220313T070000
END:DAYLIGHT
BEGIN:STANDARD
TZOFFSETFROM:-0400
TZOFFSETTO:-0500
TZNAME:EST
DTSTART:20221106T060000
END:STANDARD
BEGIN:DAYLIGHT
TZOFFSETFROM:-0500
TZOFFSETTO:-0400
TZNAME:EDT
DTSTART:20230312T070000
END:DAYLIGHT
BEGIN:STANDARD
TZOFFSETFROM:-0400
TZOFFSETTO:-0500
TZNAME:EST
DTSTART:20231105T060000
END:STANDARD
END:VTIMEZONE
BEGIN:VEVENT
DTSTART;TZID=America/Toronto:20220306T130000
DTEND;TZID=America/Toronto:20220306T170000
DTSTAMP:20260421T082219
CREATED:20220303T151459Z
LAST-MODIFIED:20220303T154157Z
UID:397322-1646571600-1646586000@www.chga.fm
SUMMARY:Journée internationale des droits des femmes | Comité Femme
DESCRIPTION:Dans le cadre de la Journée internationale des Droits des Femmes\, le Comité Femme de la Vallée-de-la-Gatineau invite ces dames et leurs enfants à visiter en grand nombre leurs kiosques interactifs \nCe dimanche 6 mars 2022 de 13h00 à 15h00  au 248 rue Cartier à Maniwaki. \nDes activités ludiques vous seront proposées pour en apprendre davantage sur les droits des femmes. \nCafé\, Chocolat chaud ainsi que de délicieux beignes vous seront offerts sur place. \nPlusieurs autres surprises vous y attendent…  \nN’oubliez pas d’apporter votre bouteille réutilisable.  \nBienvenue à la communauté LGBTQ+  \nPour plus d’informations:  \n819-441-2111 | 819-441-1001 | 819-449-6779
URL:https://www.chga.fm/evenement/journee-internationale-des-droits-des-femmes-calacs/
LOCATION:248\, rue Cartier\, Maniwaki\, 248 rue Cartier\, Maniwaki\, QC\, J9E3P5\, Canada
END:VEVENT
END:VCALENDAR