BEGIN:VCALENDAR
VERSION:2.0
PRODID:-//CHGA - ECPv6.15.20//NONSGML v1.0//EN
CALSCALE:GREGORIAN
METHOD:PUBLISH
X-WR-CALNAME:CHGA
X-ORIGINAL-URL:https://www.chga.fm
X-WR-CALDESC:évènements pour CHGA
REFRESH-INTERVAL;VALUE=DURATION:PT1H
X-Robots-Tag:noindex
X-PUBLISHED-TTL:PT1H
BEGIN:VTIMEZONE
TZID:America/Toronto
BEGIN:DAYLIGHT
TZOFFSETFROM:-0500
TZOFFSETTO:-0400
TZNAME:EDT
DTSTART:20220313T070000
END:DAYLIGHT
BEGIN:STANDARD
TZOFFSETFROM:-0400
TZOFFSETTO:-0500
TZNAME:EST
DTSTART:20221106T060000
END:STANDARD
BEGIN:DAYLIGHT
TZOFFSETFROM:-0500
TZOFFSETTO:-0400
TZNAME:EDT
DTSTART:20230312T070000
END:DAYLIGHT
BEGIN:STANDARD
TZOFFSETFROM:-0400
TZOFFSETTO:-0500
TZNAME:EST
DTSTART:20231105T060000
END:STANDARD
BEGIN:DAYLIGHT
TZOFFSETFROM:-0500
TZOFFSETTO:-0400
TZNAME:EDT
DTSTART:20240310T070000
END:DAYLIGHT
BEGIN:STANDARD
TZOFFSETFROM:-0400
TZOFFSETTO:-0500
TZNAME:EST
DTSTART:20241103T060000
END:STANDARD
END:VTIMEZONE
BEGIN:VEVENT
DTSTART;TZID=America/Toronto:20230907T130000
DTEND;TZID=America/Toronto:20230907T140000
DTSTAMP:20260420T041944
CREATED:20230823T183129Z
LAST-MODIFIED:20230823T183129Z
UID:429030-1694091600-1694095200@www.chga.fm
SUMMARY:Jeu de carte 500 - Club de l'âge d'or de Maniwaki
DESCRIPTION:Le Club de l’âge d’or de Maniwaki vous invite tous les jeudis à une session de jeu de carte 500 à 13h en haut de l’aréna à Maniwaki\, et ce\, dès le jeudi 7 septembre 2023. Le coût d’entrée est de 3$ avec l’achat de votre carte de membre. \nPour plus d’informations\, communiquez avec Bob 819 334-2843.
URL:https://www.chga.fm/evenement/jeu-de-carte-500-club-de-lage-dor-de-maniwaki-3/
END:VEVENT
END:VCALENDAR