BEGIN:VCALENDAR
VERSION:2.0
PRODID:-//CHGA - ECPv6.15.20//NONSGML v1.0//EN
CALSCALE:GREGORIAN
METHOD:PUBLISH
X-WR-CALNAME:CHGA
X-ORIGINAL-URL:https://www.chga.fm
X-WR-CALDESC:évènements pour CHGA
REFRESH-INTERVAL;VALUE=DURATION:PT1H
X-Robots-Tag:noindex
X-PUBLISHED-TTL:PT1H
BEGIN:VTIMEZONE
TZID:America/Toronto
BEGIN:DAYLIGHT
TZOFFSETFROM:-0500
TZOFFSETTO:-0400
TZNAME:EDT
DTSTART:20220313T070000
END:DAYLIGHT
BEGIN:STANDARD
TZOFFSETFROM:-0400
TZOFFSETTO:-0500
TZNAME:EST
DTSTART:20221106T060000
END:STANDARD
BEGIN:DAYLIGHT
TZOFFSETFROM:-0500
TZOFFSETTO:-0400
TZNAME:EDT
DTSTART:20230312T070000
END:DAYLIGHT
BEGIN:STANDARD
TZOFFSETFROM:-0400
TZOFFSETTO:-0500
TZNAME:EST
DTSTART:20231105T060000
END:STANDARD
BEGIN:DAYLIGHT
TZOFFSETFROM:-0500
TZOFFSETTO:-0400
TZNAME:EDT
DTSTART:20240310T070000
END:DAYLIGHT
BEGIN:STANDARD
TZOFFSETFROM:-0400
TZOFFSETTO:-0500
TZNAME:EST
DTSTART:20241103T060000
END:STANDARD
END:VTIMEZONE
BEGIN:VEVENT
DTSTART;TZID=America/Toronto:20230825T190000
DTEND;TZID=America/Toronto:20230825T200000
DTSTAMP:20260420T054453
CREATED:20230817T172527Z
LAST-MODIFIED:20230817T172527Z
UID:428699-1692990000-1692993600@www.chga.fm
SUMMARY:Jeu de balle humoristique - Les 4 chevaliers
DESCRIPTION:Le vendredi 25 août 2023\, il y aura un jeu de balle humoristique les 4 chevaliers contre Les Anciens dès 19h au terrain de balle de Val-Barette. Le coup du billet est de 5$/personne. De plus\, tous les profits iront pour les jeunes de Val-Barette. Bière\, hot-dog et hamburger sur place.
URL:https://www.chga.fm/evenement/jeu-de-balle-humoristique-les-4-chevaliers/
END:VEVENT
END:VCALENDAR