BEGIN:VCALENDAR
VERSION:2.0
PRODID:-//CHGA - ECPv6.15.20//NONSGML v1.0//EN
CALSCALE:GREGORIAN
METHOD:PUBLISH
X-WR-CALNAME:CHGA
X-ORIGINAL-URL:https://www.chga.fm
X-WR-CALDESC:évènements pour CHGA
REFRESH-INTERVAL;VALUE=DURATION:PT1H
X-Robots-Tag:noindex
X-PUBLISHED-TTL:PT1H
BEGIN:VTIMEZONE
TZID:America/Toronto
BEGIN:DAYLIGHT
TZOFFSETFROM:-0500
TZOFFSETTO:-0400
TZNAME:EDT
DTSTART:20210314T070000
END:DAYLIGHT
BEGIN:STANDARD
TZOFFSETFROM:-0400
TZOFFSETTO:-0500
TZNAME:EST
DTSTART:20211107T060000
END:STANDARD
BEGIN:DAYLIGHT
TZOFFSETFROM:-0500
TZOFFSETTO:-0400
TZNAME:EDT
DTSTART:20220313T070000
END:DAYLIGHT
BEGIN:STANDARD
TZOFFSETFROM:-0400
TZOFFSETTO:-0500
TZNAME:EST
DTSTART:20221106T060000
END:STANDARD
BEGIN:DAYLIGHT
TZOFFSETFROM:-0500
TZOFFSETTO:-0400
TZNAME:EDT
DTSTART:20230312T070000
END:DAYLIGHT
BEGIN:STANDARD
TZOFFSETFROM:-0400
TZOFFSETTO:-0500
TZNAME:EST
DTSTART:20231105T060000
END:STANDARD
END:VTIMEZONE
BEGIN:VEVENT
DTSTART;TZID=America/Toronto:20220608T140000
DTEND;TZID=America/Toronto:20220608T140000
DTSTAMP:20260421T052012
CREATED:20220606T145102Z
LAST-MODIFIED:20220606T145157Z
UID:403830-1654696800-1654696800@www.chga.fm
SUMMARY:Invitation pour les membres de Voix et solidarité des aidants naturels
DESCRIPTION:Voici une invitation pour les membres de Voix et solidarité des aidants naturels VG pour ce mercredi 8 juin 14 h. La bientraitance des personnes proches aidantes ; une responsabilité partagée! animé par Marika Tessier\, chargée de projet sur la bientraitance des personnes proches aidantes pour Proche aidance Québec au 248 Cartier\, Maniwaki à la salle du conseil. C’est gratuit! \nPour confirmer votre présence\, téléphonez au 819-441-1001.
URL:https://www.chga.fm/evenement/invitation-pour-les-membres-de-voix-et-solidarite-des-aidants-naturels/
LOCATION:Voix et solidarité des aidants naturels de la Vallée-de-la-Gatineau\, 248\, rue Cartier\, Maniwaki\, QC\, J9E 3P5\, Canada
END:VEVENT
END:VCALENDAR