BEGIN:VCALENDAR
VERSION:2.0
PRODID:-//CHGA - ECPv6.15.20//NONSGML v1.0//EN
CALSCALE:GREGORIAN
METHOD:PUBLISH
X-WR-CALNAME:CHGA
X-ORIGINAL-URL:https://www.chga.fm
X-WR-CALDESC:évènements pour CHGA
REFRESH-INTERVAL;VALUE=DURATION:PT1H
X-Robots-Tag:noindex
X-PUBLISHED-TTL:PT1H
BEGIN:VTIMEZONE
TZID:America/Toronto
BEGIN:DAYLIGHT
TZOFFSETFROM:-0500
TZOFFSETTO:-0400
TZNAME:EDT
DTSTART:20210314T070000
END:DAYLIGHT
BEGIN:STANDARD
TZOFFSETFROM:-0400
TZOFFSETTO:-0500
TZNAME:EST
DTSTART:20211107T060000
END:STANDARD
BEGIN:DAYLIGHT
TZOFFSETFROM:-0500
TZOFFSETTO:-0400
TZNAME:EDT
DTSTART:20220313T070000
END:DAYLIGHT
BEGIN:STANDARD
TZOFFSETFROM:-0400
TZOFFSETTO:-0500
TZNAME:EST
DTSTART:20221106T060000
END:STANDARD
BEGIN:DAYLIGHT
TZOFFSETFROM:-0500
TZOFFSETTO:-0400
TZNAME:EDT
DTSTART:20230312T070000
END:DAYLIGHT
BEGIN:STANDARD
TZOFFSETFROM:-0400
TZOFFSETTO:-0500
TZNAME:EST
DTSTART:20231105T060000
END:STANDARD
END:VTIMEZONE
BEGIN:VEVENT
DTSTART;TZID=America/Toronto:20221022T130000
DTEND;TZID=America/Toronto:20221022T150000
DTSTAMP:20260420T204942
CREATED:20220909T152415Z
LAST-MODIFIED:20221013T193630Z
UID:10018022-1666443600-1666450800@www.chga.fm
SUMMARY:Inscription pour le sacrement du pardon et première communion
DESCRIPTION:La paroisse de Cayamant vous attend pour les inscriptions du sacrement du pardon et première communion pour tous. Âge requis : 8 ans et plus. Inscription avant le 8 octobre 2022 \nPour plus d’informations\, communiquez avec Gervaise : 819-463-4944 ou Denise : 819-463-3882Rencontre le samedi 22 octobre entre 13h et 15h à l’église du Cayamant.Remise des outils nécessaire à la préparation.
URL:https://www.chga.fm/evenement/inscription-pour-le-sacrement-du-pardon-et-premiere-communion/2022-10-22/
LOCATION:QC\, Canada
END:VEVENT
END:VCALENDAR