BEGIN:VCALENDAR
VERSION:2.0
PRODID:-//CHGA - ECPv6.15.20//NONSGML v1.0//EN
CALSCALE:GREGORIAN
METHOD:PUBLISH
X-WR-CALNAME:CHGA
X-ORIGINAL-URL:https://www.chga.fm
X-WR-CALDESC:évènements pour CHGA
REFRESH-INTERVAL;VALUE=DURATION:PT1H
X-Robots-Tag:noindex
X-PUBLISHED-TTL:PT1H
BEGIN:VTIMEZONE
TZID:America/Toronto
BEGIN:DAYLIGHT
TZOFFSETFROM:-0500
TZOFFSETTO:-0400
TZNAME:EDT
DTSTART:20230312T070000
END:DAYLIGHT
BEGIN:STANDARD
TZOFFSETFROM:-0400
TZOFFSETTO:-0500
TZNAME:EST
DTSTART:20231105T060000
END:STANDARD
BEGIN:DAYLIGHT
TZOFFSETFROM:-0500
TZOFFSETTO:-0400
TZNAME:EDT
DTSTART:20240310T070000
END:DAYLIGHT
BEGIN:STANDARD
TZOFFSETFROM:-0400
TZOFFSETTO:-0500
TZNAME:EST
DTSTART:20241103T060000
END:STANDARD
BEGIN:DAYLIGHT
TZOFFSETFROM:-0500
TZOFFSETTO:-0400
TZNAME:EDT
DTSTART:20250309T070000
END:DAYLIGHT
BEGIN:STANDARD
TZOFFSETFROM:-0400
TZOFFSETTO:-0500
TZNAME:EST
DTSTART:20251102T060000
END:STANDARD
END:VTIMEZONE
BEGIN:VEVENT
DTSTART;TZID=America/Toronto:20240313T133000
DTEND;TZID=America/Toronto:20240313T143000
DTSTAMP:20260420T142443
CREATED:20240304T162339Z
LAST-MODIFIED:20240304T162415Z
UID:439917-1710336600-1710340200@www.chga.fm
SUMMARY:Groupe de soutien - Voix et Solidarité
DESCRIPTION:Votre conseillère nord\, Michelle Lyrette invite les personnes proches aidantes à participer au groupe de soutien qui aura lieu le mercredi 13 mars 2024 à compter de 13 h 30 au 248\, rue Cartier à Maniwaki.  Le sujet qui vous sera présenter sera sûr quels sont les deuils auxquels je peux faire face.
URL:https://www.chga.fm/evenement/groupe-de-soutien-voix-et-solidarite-5/
LOCATION:QC\, Canada
END:VEVENT
END:VCALENDAR