BEGIN:VCALENDAR
VERSION:2.0
PRODID:-//CHGA - ECPv6.15.20//NONSGML v1.0//EN
CALSCALE:GREGORIAN
METHOD:PUBLISH
X-WR-CALNAME:CHGA
X-ORIGINAL-URL:https://www.chga.fm
X-WR-CALDESC:évènements pour CHGA
REFRESH-INTERVAL;VALUE=DURATION:PT1H
X-Robots-Tag:noindex
X-PUBLISHED-TTL:PT1H
BEGIN:VTIMEZONE
TZID:America/Toronto
BEGIN:DAYLIGHT
TZOFFSETFROM:-0500
TZOFFSETTO:-0400
TZNAME:EDT
DTSTART:20200308T070000
END:DAYLIGHT
BEGIN:STANDARD
TZOFFSETFROM:-0400
TZOFFSETTO:-0500
TZNAME:EST
DTSTART:20201101T060000
END:STANDARD
BEGIN:DAYLIGHT
TZOFFSETFROM:-0500
TZOFFSETTO:-0400
TZNAME:EDT
DTSTART:20210314T070000
END:DAYLIGHT
BEGIN:STANDARD
TZOFFSETFROM:-0400
TZOFFSETTO:-0500
TZNAME:EST
DTSTART:20211107T060000
END:STANDARD
BEGIN:DAYLIGHT
TZOFFSETFROM:-0500
TZOFFSETTO:-0400
TZNAME:EDT
DTSTART:20220313T070000
END:DAYLIGHT
BEGIN:STANDARD
TZOFFSETFROM:-0400
TZOFFSETTO:-0500
TZNAME:EST
DTSTART:20221106T060000
END:STANDARD
END:VTIMEZONE
BEGIN:VEVENT
DTSTART;VALUE=DATE:20210317
DTEND;VALUE=DATE:20210318
DTSTAMP:20260422T032621
CREATED:20210317T125606Z
LAST-MODIFIED:20210317T141651Z
UID:378173-1615939200-1616025599@www.chga.fm
SUMMARY:Grand-Remous - Collecte du compostage
DESCRIPTION:La municipalité de Grand-Remous désire aviser sa population que la collecte du compostage est débutée depuis le 12 mars dernier. \nNous vous conseillons de vérifier le calendrier que vous avez reçu avec votre facture de taxes et de prendre note de l’horaire des collectes. \nNous vous invitons également à prendre connaissance des consignes qui étaient incluses à l’intérieur du bac de cuisine que vous avez reçu antérieurement. \nEnfin\, nous vous rappelons qu’il est strictement défendu de déposer des sacs de plastique dans votre bac. \nEnsemble\, réduisons les ordures et diminuons les coûts.
URL:https://www.chga.fm/evenement/grand-remous-collecte-des-matieres-organiques/
LOCATION:QC\, Canada
END:VEVENT
END:VCALENDAR