BEGIN:VCALENDAR
VERSION:2.0
PRODID:-//CHGA - ECPv6.15.20//NONSGML v1.0//EN
CALSCALE:GREGORIAN
METHOD:PUBLISH
X-WR-CALNAME:CHGA
X-ORIGINAL-URL:https://www.chga.fm
X-WR-CALDESC:évènements pour CHGA
REFRESH-INTERVAL;VALUE=DURATION:PT1H
X-Robots-Tag:noindex
X-PUBLISHED-TTL:PT1H
BEGIN:VTIMEZONE
TZID:America/Toronto
BEGIN:DAYLIGHT
TZOFFSETFROM:-0500
TZOFFSETTO:-0400
TZNAME:EDT
DTSTART:20210314T070000
END:DAYLIGHT
BEGIN:STANDARD
TZOFFSETFROM:-0400
TZOFFSETTO:-0500
TZNAME:EST
DTSTART:20211107T060000
END:STANDARD
BEGIN:DAYLIGHT
TZOFFSETFROM:-0500
TZOFFSETTO:-0400
TZNAME:EDT
DTSTART:20220313T070000
END:DAYLIGHT
BEGIN:STANDARD
TZOFFSETFROM:-0400
TZOFFSETTO:-0500
TZNAME:EST
DTSTART:20221106T060000
END:STANDARD
BEGIN:DAYLIGHT
TZOFFSETFROM:-0500
TZOFFSETTO:-0400
TZNAME:EDT
DTSTART:20230312T070000
END:DAYLIGHT
BEGIN:STANDARD
TZOFFSETFROM:-0400
TZOFFSETTO:-0500
TZNAME:EST
DTSTART:20231105T060000
END:STANDARD
END:VTIMEZONE
BEGIN:VEVENT
DTSTART;TZID=America/Toronto:20220420T160000
DTEND;TZID=America/Toronto:20220420T200000
DTSTAMP:20260421T081957
CREATED:20220414T124710Z
LAST-MODIFIED:20220414T124710Z
UID:400065-1650470400-1650484800@www.chga.fm
SUMMARY:Grand lancement
DESCRIPTION:Le 20 avril 2022 au Château Logue\, il y aura un grand lancement des bibliothèques parlantes intergénérationnelles. Vous êtes invités de 16h00 à 20h00 pour venir écouter 3 conteurs de la région sur leurs réelles histoires. Le tout accompagné de la Chorale L’Assomption et d’un léger repas. Une jolie activité simple et gratuite entre génération. Plaisir garanti! \nNous vous attendons! \nPour plus d’informations\, téléphonez au 819 441-1001 ou le 819 441-6779
URL:https://www.chga.fm/evenement/grand-lancement/
LOCATION:Château Logue Maniwaki\, 12 Rue Comeau\, Maniwaki\, QC\, J9E 2R8\, Canada
END:VEVENT
END:VCALENDAR