BEGIN:VCALENDAR
VERSION:2.0
PRODID:-//CHGA - ECPv6.15.20//NONSGML v1.0//EN
CALSCALE:GREGORIAN
METHOD:PUBLISH
X-WR-CALNAME:CHGA
X-ORIGINAL-URL:https://www.chga.fm
X-WR-CALDESC:évènements pour CHGA
REFRESH-INTERVAL;VALUE=DURATION:PT1H
X-Robots-Tag:noindex
X-PUBLISHED-TTL:PT1H
BEGIN:VTIMEZONE
TZID:America/Toronto
BEGIN:DAYLIGHT
TZOFFSETFROM:-0500
TZOFFSETTO:-0400
TZNAME:EDT
DTSTART:20200308T070000
END:DAYLIGHT
BEGIN:STANDARD
TZOFFSETFROM:-0400
TZOFFSETTO:-0500
TZNAME:EST
DTSTART:20201101T060000
END:STANDARD
BEGIN:DAYLIGHT
TZOFFSETFROM:-0500
TZOFFSETTO:-0400
TZNAME:EDT
DTSTART:20210314T070000
END:DAYLIGHT
BEGIN:STANDARD
TZOFFSETFROM:-0400
TZOFFSETTO:-0500
TZNAME:EST
DTSTART:20211107T060000
END:STANDARD
BEGIN:DAYLIGHT
TZOFFSETFROM:-0500
TZOFFSETTO:-0400
TZNAME:EDT
DTSTART:20220313T070000
END:DAYLIGHT
BEGIN:STANDARD
TZOFFSETFROM:-0400
TZOFFSETTO:-0500
TZNAME:EST
DTSTART:20221106T060000
END:STANDARD
END:VTIMEZONE
BEGIN:VEVENT
DTSTART;TZID=America/Toronto:20211030T093000
DTEND;TZID=America/Toronto:20211030T133000
DTSTAMP:20260421T165902
CREATED:20211018T170827Z
LAST-MODIFIED:20211018T170827Z
UID:390162-1635586200-1635600600@www.chga.fm
SUMMARY:Fondation du rein - Ramassage de canettes
DESCRIPTION:Une collecte de canettes au profit de la Fondation du rein aura lieu le 30 octobre prochain\, de 9 h 30 à 13 h 30. \nL’évènement se déroulera au Metro André Lapointe situé au 100\, rue Beaulieu\, à Maniwaki. \nMerci pour votre contribution!
URL:https://www.chga.fm/evenement/fondation-du-rein-ramassage-de-canettes/
LOCATION:Metro André Lapointe\, 100\, rue Beaulieu\, Maniwaki\, QC\, J9E 1A9\, Canada
END:VEVENT
END:VCALENDAR