BEGIN:VCALENDAR
VERSION:2.0
PRODID:-//CHGA - ECPv6.15.20//NONSGML v1.0//EN
CALSCALE:GREGORIAN
METHOD:PUBLISH
X-WR-CALNAME:CHGA
X-ORIGINAL-URL:https://www.chga.fm
X-WR-CALDESC:évènements pour CHGA
REFRESH-INTERVAL;VALUE=DURATION:PT1H
X-Robots-Tag:noindex
X-PUBLISHED-TTL:PT1H
BEGIN:VTIMEZONE
TZID:America/Toronto
BEGIN:DAYLIGHT
TZOFFSETFROM:-0500
TZOFFSETTO:-0400
TZNAME:EDT
DTSTART:20200308T070000
END:DAYLIGHT
BEGIN:STANDARD
TZOFFSETFROM:-0400
TZOFFSETTO:-0500
TZNAME:EST
DTSTART:20201101T060000
END:STANDARD
BEGIN:DAYLIGHT
TZOFFSETFROM:-0500
TZOFFSETTO:-0400
TZNAME:EDT
DTSTART:20210314T070000
END:DAYLIGHT
BEGIN:STANDARD
TZOFFSETFROM:-0400
TZOFFSETTO:-0500
TZNAME:EST
DTSTART:20211107T060000
END:STANDARD
BEGIN:DAYLIGHT
TZOFFSETFROM:-0500
TZOFFSETTO:-0400
TZNAME:EDT
DTSTART:20220313T070000
END:DAYLIGHT
BEGIN:STANDARD
TZOFFSETFROM:-0400
TZOFFSETTO:-0500
TZNAME:EST
DTSTART:20221106T060000
END:STANDARD
END:VTIMEZONE
BEGIN:VEVENT
DTSTART;TZID=America/Toronto:20210902T080000
DTEND;TZID=America/Toronto:20210906T170000
DTSTAMP:20260421T195715
CREATED:20210824T143540Z
LAST-MODIFIED:20210830T174544Z
UID:386462-1630569600-1630947600@www.chga.fm
SUMMARY:Foire de Shawville
DESCRIPTION:Du 2 au 6 septembre prochain\, c’est un rendez-vous pour une autre édition de la foire de Shawville! Expositions\, tours de poney gratuits\, tirs de chevaux\, manèges\, spectacle autochtone\, spectacles pour enfants\, foire alimentaire et bien plus! Spectacles de fins de soirées avec la présence\, entre autres\, de Little Bones\, du Andy Dewashe Band et de Phil Denault. \nEn raison de la covid-19\, le port du masque sera obligatoire dans les édifices et on vous demande de garder vos distances. Les passeports Vaccinaux de l’Ontario et du Québec sont acceptés \nProgrammation complète et billets disponibles à l’entrée ou au www.shawvillefair.ca. Retrouvez nous sur Facebook!
URL:https://www.chga.fm/evenement/foire-de-shawville/
LOCATION:QC\, Canada
END:VEVENT
END:VCALENDAR