BEGIN:VCALENDAR
VERSION:2.0
PRODID:-//CHGA - ECPv6.15.20//NONSGML v1.0//EN
CALSCALE:GREGORIAN
METHOD:PUBLISH
X-WR-CALNAME:CHGA
X-ORIGINAL-URL:https://www.chga.fm
X-WR-CALDESC:évènements pour CHGA
REFRESH-INTERVAL;VALUE=DURATION:PT1H
X-Robots-Tag:noindex
X-PUBLISHED-TTL:PT1H
BEGIN:VTIMEZONE
TZID:America/Toronto
BEGIN:DAYLIGHT
TZOFFSETFROM:-0500
TZOFFSETTO:-0400
TZNAME:EDT
DTSTART:20190310T070000
END:DAYLIGHT
BEGIN:STANDARD
TZOFFSETFROM:-0400
TZOFFSETTO:-0500
TZNAME:EST
DTSTART:20191103T060000
END:STANDARD
BEGIN:DAYLIGHT
TZOFFSETFROM:-0500
TZOFFSETTO:-0400
TZNAME:EDT
DTSTART:20200308T070000
END:DAYLIGHT
BEGIN:STANDARD
TZOFFSETFROM:-0400
TZOFFSETTO:-0500
TZNAME:EST
DTSTART:20201101T060000
END:STANDARD
BEGIN:DAYLIGHT
TZOFFSETFROM:-0500
TZOFFSETTO:-0400
TZNAME:EDT
DTSTART:20210314T070000
END:DAYLIGHT
BEGIN:STANDARD
TZOFFSETFROM:-0400
TZOFFSETTO:-0500
TZNAME:EST
DTSTART:20211107T060000
END:STANDARD
END:VTIMEZONE
BEGIN:VEVENT
DTSTART;TZID=America/Toronto:20201007T110000
DTEND;TZID=America/Toronto:20201007T140000
DTSTAMP:20260422T113136
CREATED:20200921T134748Z
LAST-MODIFIED:20201006T151409Z
UID:369645-1602068400-1602079200@www.chga.fm
SUMMARY:Filles d'Isabelle de Maniwaki - Messe et rencontre
DESCRIPTION:Les filles d’Isabelle de Maniwaki désire aviser ses membres que la messe ainsi que la rencontre qui devait avoir lieu le mercredi 7 octobre dès 10 h\,à l’église de Gracefield\, est annulée vu les circonstances.
URL:https://www.chga.fm/evenement/filles-disabelle-de-maniwaki-messe-et-rencontre/
LOCATION:Paroisse la Visitation de Gracefield\, 14\, rue Principale\, Gracefield\, QC\, J0X 1W0\, Canada
END:VEVENT
END:VCALENDAR