BEGIN:VCALENDAR
VERSION:2.0
PRODID:-//CHGA - ECPv6.15.20//NONSGML v1.0//EN
CALSCALE:GREGORIAN
METHOD:PUBLISH
X-WR-CALNAME:CHGA
X-ORIGINAL-URL:https://www.chga.fm
X-WR-CALDESC:évènements pour CHGA
REFRESH-INTERVAL;VALUE=DURATION:PT1H
X-Robots-Tag:noindex
X-PUBLISHED-TTL:PT1H
BEGIN:VTIMEZONE
TZID:America/Toronto
BEGIN:DAYLIGHT
TZOFFSETFROM:-0500
TZOFFSETTO:-0400
TZNAME:EDT
DTSTART:20200308T070000
END:DAYLIGHT
BEGIN:STANDARD
TZOFFSETFROM:-0400
TZOFFSETTO:-0500
TZNAME:EST
DTSTART:20201101T060000
END:STANDARD
BEGIN:DAYLIGHT
TZOFFSETFROM:-0500
TZOFFSETTO:-0400
TZNAME:EDT
DTSTART:20210314T070000
END:DAYLIGHT
BEGIN:STANDARD
TZOFFSETFROM:-0400
TZOFFSETTO:-0500
TZNAME:EST
DTSTART:20211107T060000
END:STANDARD
BEGIN:DAYLIGHT
TZOFFSETFROM:-0500
TZOFFSETTO:-0400
TZNAME:EDT
DTSTART:20220313T070000
END:DAYLIGHT
BEGIN:STANDARD
TZOFFSETFROM:-0400
TZOFFSETTO:-0500
TZNAME:EST
DTSTART:20221106T060000
END:STANDARD
END:VTIMEZONE
BEGIN:VEVENT
DTSTART;TZID=America/Toronto:20211017T090000
DTEND;TZID=America/Toronto:20211017T170000
DTSTAMP:20260421T165836
CREATED:20211012T124914Z
LAST-MODIFIED:20211012T124914Z
UID:389816-1634461200-1634490000@www.chga.fm
SUMMARY:Fête du cimetière Ste-Philomène de Montcerf-Lytton
DESCRIPTION:La communauté Ste-Philomène de Montcerf-Lytton tiendra sa fête du cimetière lors de la messe du dimanche\, 17 octobre à 9 h 15\, en l’église Ste-Philomène. \nAprès la messe\, les gens pourront aller au cimetière. M. le curé ne s’y rendra pas comme à l’habitude puisqu’il doit se rendre à Maniwaki pour la messe de 11 h 00. \nIl n’y aura pas de repas après la messe en raison de la pandémie et aussi parce que la prochaine messe est trop rapprochée. \nEnfin\, on invite les gens à apporter à l’église des denrées non périssables\, qui seront remises par la suite au service de dépannage alimentaire paroissial Le pain quotidien\, tout le mois d’octobre\, pour souligner le mois de l’Action de grâce.
URL:https://www.chga.fm/evenement/fete-du-cimetiere-ste-philomene-de-montcerf-lytton/
LOCATION:Église Ste-Philomène\, 104\, rue Principale Sud\, Montcerf-Lytton\, QC\, J0W 1N0\, Canada
END:VEVENT
END:VCALENDAR