BEGIN:VCALENDAR
VERSION:2.0
PRODID:-//CHGA - ECPv6.15.20//NONSGML v1.0//EN
CALSCALE:GREGORIAN
METHOD:PUBLISH
X-WR-CALNAME:CHGA
X-ORIGINAL-URL:https://www.chga.fm
X-WR-CALDESC:évènements pour CHGA
REFRESH-INTERVAL;VALUE=DURATION:PT1H
X-Robots-Tag:noindex
X-PUBLISHED-TTL:PT1H
BEGIN:VTIMEZONE
TZID:America/Toronto
BEGIN:DAYLIGHT
TZOFFSETFROM:-0500
TZOFFSETTO:-0400
TZNAME:EDT
DTSTART:20210314T070000
END:DAYLIGHT
BEGIN:STANDARD
TZOFFSETFROM:-0400
TZOFFSETTO:-0500
TZNAME:EST
DTSTART:20211107T060000
END:STANDARD
BEGIN:DAYLIGHT
TZOFFSETFROM:-0500
TZOFFSETTO:-0400
TZNAME:EDT
DTSTART:20220313T070000
END:DAYLIGHT
BEGIN:STANDARD
TZOFFSETFROM:-0400
TZOFFSETTO:-0500
TZNAME:EST
DTSTART:20221106T060000
END:STANDARD
BEGIN:DAYLIGHT
TZOFFSETFROM:-0500
TZOFFSETTO:-0400
TZNAME:EDT
DTSTART:20230312T070000
END:DAYLIGHT
BEGIN:STANDARD
TZOFFSETFROM:-0400
TZOFFSETTO:-0500
TZNAME:EST
DTSTART:20231105T060000
END:STANDARD
END:VTIMEZONE
BEGIN:VEVENT
DTSTART;TZID=America/Toronto:20220225T080000
DTEND;TZID=America/Toronto:20220225T170000
DTSTAMP:20260421T110353
CREATED:20220222T163148Z
LAST-MODIFIED:20220222T163148Z
UID:10016240-1645776000-1645808400@www.chga.fm
SUMMARY:Fermeture temporaire de la Bibliothèque | Low
DESCRIPTION:En raison de circonstance exceptionnelle\, la municipalité de Low souhaite vous informer que la bibliothèque municipale sera fermée au public du 22 au 28 février 2022 et vous remercie pour votre compréhension.
URL:https://www.chga.fm/evenement/fermeture-temporaire-de-la-bibliotheque-low/2022-02-25/
LOCATION:Bibliothèque municipale de Low\, QC\, Canada
END:VEVENT
END:VCALENDAR