BEGIN:VCALENDAR
VERSION:2.0
PRODID:-//CHGA - ECPv6.15.20//NONSGML v1.0//EN
CALSCALE:GREGORIAN
METHOD:PUBLISH
X-WR-CALNAME:CHGA
X-ORIGINAL-URL:https://www.chga.fm
X-WR-CALDESC:évènements pour CHGA
REFRESH-INTERVAL;VALUE=DURATION:PT1H
X-Robots-Tag:noindex
X-PUBLISHED-TTL:PT1H
BEGIN:VTIMEZONE
TZID:America/Toronto
BEGIN:DAYLIGHT
TZOFFSETFROM:-0500
TZOFFSETTO:-0400
TZNAME:EDT
DTSTART:20200308T070000
END:DAYLIGHT
BEGIN:STANDARD
TZOFFSETFROM:-0400
TZOFFSETTO:-0500
TZNAME:EST
DTSTART:20201101T060000
END:STANDARD
BEGIN:DAYLIGHT
TZOFFSETFROM:-0500
TZOFFSETTO:-0400
TZNAME:EDT
DTSTART:20210314T070000
END:DAYLIGHT
BEGIN:STANDARD
TZOFFSETFROM:-0400
TZOFFSETTO:-0500
TZNAME:EST
DTSTART:20211107T060000
END:STANDARD
BEGIN:DAYLIGHT
TZOFFSETFROM:-0500
TZOFFSETTO:-0400
TZNAME:EDT
DTSTART:20220313T070000
END:DAYLIGHT
BEGIN:STANDARD
TZOFFSETFROM:-0400
TZOFFSETTO:-0500
TZNAME:EST
DTSTART:20221106T060000
END:STANDARD
END:VTIMEZONE
BEGIN:VEVENT
DTSTART;TZID=America/Toronto:20211005T083000
DTEND;TZID=America/Toronto:20211005T130000
DTSTAMP:20260421T165757
CREATED:20211004T131201Z
LAST-MODIFIED:20211004T131201Z
UID:389398-1633422600-1633438800@www.chga.fm
SUMMARY:Fermeture du chemin de la Ferme-des-Six
DESCRIPTION:La Municipalité de Bouchette désire aviser ses contribuables que le chemin de la Ferme-des-Six sera fermé pour le remplacement d’un ponceau le mardi 5 octobre 2021\, entre 8 h 30 et 13 h 00\, à la hauteur du 162\, chemin de la Ferme-Des-Six. \nMerci de votre précieuse collaboration.
URL:https://www.chga.fm/evenement/fermeture-du-chemin-de-la-ferme-des-six/
LOCATION:QC\, Canada
END:VEVENT
END:VCALENDAR