BEGIN:VCALENDAR
VERSION:2.0
PRODID:-//CHGA - ECPv6.15.20//NONSGML v1.0//EN
CALSCALE:GREGORIAN
METHOD:PUBLISH
X-WR-CALNAME:CHGA
X-ORIGINAL-URL:https://www.chga.fm
X-WR-CALDESC:évènements pour CHGA
REFRESH-INTERVAL;VALUE=DURATION:PT1H
X-Robots-Tag:noindex
X-PUBLISHED-TTL:PT1H
BEGIN:VTIMEZONE
TZID:America/Toronto
BEGIN:DAYLIGHT
TZOFFSETFROM:-0500
TZOFFSETTO:-0400
TZNAME:EDT
DTSTART:20210314T070000
END:DAYLIGHT
BEGIN:STANDARD
TZOFFSETFROM:-0400
TZOFFSETTO:-0500
TZNAME:EST
DTSTART:20211107T060000
END:STANDARD
BEGIN:DAYLIGHT
TZOFFSETFROM:-0500
TZOFFSETTO:-0400
TZNAME:EDT
DTSTART:20220313T070000
END:DAYLIGHT
BEGIN:STANDARD
TZOFFSETFROM:-0400
TZOFFSETTO:-0500
TZNAME:EST
DTSTART:20221106T060000
END:STANDARD
BEGIN:DAYLIGHT
TZOFFSETFROM:-0500
TZOFFSETTO:-0400
TZNAME:EDT
DTSTART:20230312T070000
END:DAYLIGHT
BEGIN:STANDARD
TZOFFSETFROM:-0400
TZOFFSETTO:-0500
TZNAME:EST
DTSTART:20231105T060000
END:STANDARD
END:VTIMEZONE
BEGIN:VEVENT
DTSTART;TZID=America/Toronto:20220321T193000
DTEND;TZID=America/Toronto:20220321T203000
DTSTAMP:20260421T094030
CREATED:20220309T181236Z
LAST-MODIFIED:20220309T182254Z
UID:397677-1647891000-1647894600@www.chga.fm
SUMMARY:Familles d'abord - Assemblée générale extraordinaire
DESCRIPTION:Familles d’abord désire inviter la population à son assemblée générale extraordinaire qui aura lieu le lundi 21 mars prochain\, à 19 h 30. Les personnes intéressées peuvent participer en présentiel au 42\, rue Principale à Gracefield (limite de 10 personnes en raison des restrictions sanitaires) ou de façon virtuelle (Zoom). \nPour participer à l’assemblée en présentiel ou de façon virtuelle\, les gens doivent communiquer avec Madame Nathalie Rochon au 819 463-4500.
URL:https://www.chga.fm/evenement/familles-dabord-assemblee-generale-extraordinaire/
LOCATION:QC\, Canada
END:VEVENT
END:VCALENDAR