BEGIN:VCALENDAR
VERSION:2.0
PRODID:-//CHGA - ECPv6.15.20//NONSGML v1.0//EN
CALSCALE:GREGORIAN
METHOD:PUBLISH
X-WR-CALNAME:CHGA
X-ORIGINAL-URL:https://www.chga.fm
X-WR-CALDESC:évènements pour CHGA
REFRESH-INTERVAL;VALUE=DURATION:PT1H
X-Robots-Tag:noindex
X-PUBLISHED-TTL:PT1H
BEGIN:VTIMEZONE
TZID:America/Toronto
BEGIN:DAYLIGHT
TZOFFSETFROM:-0500
TZOFFSETTO:-0400
TZNAME:EDT
DTSTART:20220313T070000
END:DAYLIGHT
BEGIN:STANDARD
TZOFFSETFROM:-0400
TZOFFSETTO:-0500
TZNAME:EST
DTSTART:20221106T060000
END:STANDARD
BEGIN:DAYLIGHT
TZOFFSETFROM:-0500
TZOFFSETTO:-0400
TZNAME:EDT
DTSTART:20230312T070000
END:DAYLIGHT
BEGIN:STANDARD
TZOFFSETFROM:-0400
TZOFFSETTO:-0500
TZNAME:EST
DTSTART:20231105T060000
END:STANDARD
BEGIN:DAYLIGHT
TZOFFSETFROM:-0500
TZOFFSETTO:-0400
TZNAME:EDT
DTSTART:20240310T070000
END:DAYLIGHT
BEGIN:STANDARD
TZOFFSETFROM:-0400
TZOFFSETTO:-0500
TZNAME:EST
DTSTART:20241103T060000
END:STANDARD
END:VTIMEZONE
BEGIN:VEVENT
DTSTART;TZID=America/Toronto:20230611T173000
DTEND;TZID=America/Toronto:20230611T193000
DTSTAMP:20260420T101558
CREATED:20230529T133758Z
LAST-MODIFIED:20230529T133758Z
UID:424413-1686504600-1686511800@www.chga.fm
SUMMARY:Dernier souper - Le Club de l'âge d'or Les Porteurs de Bonheur de Cayamant
DESCRIPTION:Le Club de l’âge d’or Les Porteurs de Bonheur de Cayamant tiendra son dernier souper pour la saison estivale le dimanche 11 juin 2023\, suivi d’une soirée dansante à la salle municipale de Cayamant. Un repas froid sera servi à 17 h 30. Le coût du souper sera de 12$ pour les membres et 15% pour les non-membres. Svp\, apportez votre propre consommation.  \nPour plus d’informations\, communiquez avec Jocelyne au 819 463-2594 ou avec Lise Maisonneuve au 819 685-0847.
URL:https://www.chga.fm/evenement/dernier-souper-le-club-de-lage-dor-les-porteurs-de-bonheur-de-cayamant/
LOCATION:QC\, Canada
END:VEVENT
END:VCALENDAR