BEGIN:VCALENDAR
VERSION:2.0
PRODID:-//CHGA - ECPv6.15.20//NONSGML v1.0//EN
CALSCALE:GREGORIAN
METHOD:PUBLISH
X-WR-CALNAME:CHGA
X-ORIGINAL-URL:https://www.chga.fm
X-WR-CALDESC:évènements pour CHGA
REFRESH-INTERVAL;VALUE=DURATION:PT1H
X-Robots-Tag:noindex
X-PUBLISHED-TTL:PT1H
BEGIN:VTIMEZONE
TZID:America/Toronto
BEGIN:DAYLIGHT
TZOFFSETFROM:-0500
TZOFFSETTO:-0400
TZNAME:EDT
DTSTART:20210314T070000
END:DAYLIGHT
BEGIN:STANDARD
TZOFFSETFROM:-0400
TZOFFSETTO:-0500
TZNAME:EST
DTSTART:20211107T060000
END:STANDARD
BEGIN:DAYLIGHT
TZOFFSETFROM:-0500
TZOFFSETTO:-0400
TZNAME:EDT
DTSTART:20220313T070000
END:DAYLIGHT
BEGIN:STANDARD
TZOFFSETFROM:-0400
TZOFFSETTO:-0500
TZNAME:EST
DTSTART:20221106T060000
END:STANDARD
BEGIN:DAYLIGHT
TZOFFSETFROM:-0500
TZOFFSETTO:-0400
TZNAME:EDT
DTSTART:20230312T070000
END:DAYLIGHT
BEGIN:STANDARD
TZOFFSETFROM:-0400
TZOFFSETTO:-0500
TZNAME:EST
DTSTART:20231105T060000
END:STANDARD
END:VTIMEZONE
BEGIN:VEVENT
DTSTART;TZID=America/Toronto:20221120T090000
DTEND;TZID=America/Toronto:20221120T120000
DTSTAMP:20260420T192427
CREATED:20221114T144723Z
LAST-MODIFIED:20221114T144723Z
UID:413094-1668934800-1668945600@www.chga.fm
SUMMARY:Déjeuner - Fabrique de Blue Sea
DESCRIPTION:Nous vous invitons au déjeuner de la Fabrique de Blue Sea\, le dimanche 20 novembre 2022 de 9h à 12h à la salle municipale de Blue Sea. Le prix d’entrée est de 12$ par personne. Paiement sur place seulement. \nPour plus d’informations\, téléphonez Françoise au 819 463-3392. \nAu plaisir de vous recevoir.
URL:https://www.chga.fm/evenement/dejeuner-fabrique-de-blue-sea/
LOCATION:QC\, Canada
END:VEVENT
END:VCALENDAR