BEGIN:VCALENDAR
VERSION:2.0
PRODID:-//CHGA - ECPv6.15.20//NONSGML v1.0//EN
CALSCALE:GREGORIAN
METHOD:PUBLISH
X-WR-CALNAME:CHGA
X-ORIGINAL-URL:https://www.chga.fm
X-WR-CALDESC:évènements pour CHGA
REFRESH-INTERVAL;VALUE=DURATION:PT1H
X-Robots-Tag:noindex
X-PUBLISHED-TTL:PT1H
BEGIN:VTIMEZONE
TZID:America/Toronto
BEGIN:DAYLIGHT
TZOFFSETFROM:-0500
TZOFFSETTO:-0400
TZNAME:EDT
DTSTART:20220313T070000
END:DAYLIGHT
BEGIN:STANDARD
TZOFFSETFROM:-0400
TZOFFSETTO:-0500
TZNAME:EST
DTSTART:20221106T060000
END:STANDARD
BEGIN:DAYLIGHT
TZOFFSETFROM:-0500
TZOFFSETTO:-0400
TZNAME:EDT
DTSTART:20230312T070000
END:DAYLIGHT
BEGIN:STANDARD
TZOFFSETFROM:-0400
TZOFFSETTO:-0500
TZNAME:EST
DTSTART:20231105T060000
END:STANDARD
BEGIN:DAYLIGHT
TZOFFSETFROM:-0500
TZOFFSETTO:-0400
TZNAME:EDT
DTSTART:20240310T070000
END:DAYLIGHT
BEGIN:STANDARD
TZOFFSETFROM:-0400
TZOFFSETTO:-0500
TZNAME:EST
DTSTART:20241103T060000
END:STANDARD
END:VTIMEZONE
BEGIN:VEVENT
DTSTART;TZID=America/Toronto:20230716T090000
DTEND;TZID=America/Toronto:20230716T120000
DTSTAMP:20260420T071740
CREATED:20230516T121918Z
LAST-MODIFIED:20230714T134502Z
UID:423697-1689498000-1689508800@www.chga.fm
SUMMARY:Déjeuner\, Communauté Chrétienne de Blue Sea
DESCRIPTION:La Communauté Chrétienne de Blue Sea désire vous inviter à leur déjeuner qui aura lieu le dimanche 16 juillet 2023 \nentre 9 h et 12 h à la salle municipale de Blue Sea. \nBienvenue à tous !!
URL:https://www.chga.fm/evenement/dejeuner-communaute-chretienne-de-blue-sea-2/
LOCATION:salle municipale de Blue Sea\, 10\, rue Principale\, Blue Sea\, QC\, J0X 1C0\, Canada
END:VEVENT
END:VCALENDAR