BEGIN:VCALENDAR
VERSION:2.0
PRODID:-//CHGA - ECPv6.15.20//NONSGML v1.0//EN
CALSCALE:GREGORIAN
METHOD:PUBLISH
X-WR-CALNAME:CHGA
X-ORIGINAL-URL:https://www.chga.fm
X-WR-CALDESC:évènements pour CHGA
REFRESH-INTERVAL;VALUE=DURATION:PT1H
X-Robots-Tag:noindex
X-PUBLISHED-TTL:PT1H
BEGIN:VTIMEZONE
TZID:America/Toronto
BEGIN:DAYLIGHT
TZOFFSETFROM:-0500
TZOFFSETTO:-0400
TZNAME:EDT
DTSTART:20210314T070000
END:DAYLIGHT
BEGIN:STANDARD
TZOFFSETFROM:-0400
TZOFFSETTO:-0500
TZNAME:EST
DTSTART:20211107T060000
END:STANDARD
BEGIN:DAYLIGHT
TZOFFSETFROM:-0500
TZOFFSETTO:-0400
TZNAME:EDT
DTSTART:20220313T070000
END:DAYLIGHT
BEGIN:STANDARD
TZOFFSETFROM:-0400
TZOFFSETTO:-0500
TZNAME:EST
DTSTART:20221106T060000
END:STANDARD
BEGIN:DAYLIGHT
TZOFFSETFROM:-0500
TZOFFSETTO:-0400
TZNAME:EDT
DTSTART:20230312T070000
END:DAYLIGHT
BEGIN:STANDARD
TZOFFSETFROM:-0400
TZOFFSETTO:-0500
TZNAME:EST
DTSTART:20231105T060000
END:STANDARD
END:VTIMEZONE
BEGIN:VEVENT
DTSTART;TZID=America/Toronto:20220703T090000
DTEND;TZID=America/Toronto:20220703T120000
DTSTAMP:20260421T014835
CREATED:20220627T133108Z
LAST-MODIFIED:20220627T133206Z
UID:405505-1656838800-1656849600@www.chga.fm
SUMMARY:Déjeuner du Centre Récréatif du Lac Long
DESCRIPTION:Nous vous invitons au déjeuner Récréatif Du Lac Long\, le dimanche 3 juillet 2022 de 9h à 12h au Centre Récréatif Du Lac Long à Blue Sea. Le prix d’entrée est de 12$ par personne. Paiement sur place seulement. \nPour plus d’informations\, téléphonez Françoise au 819 463-3392. \nAu plaisir de vous recevoir.
URL:https://www.chga.fm/evenement/dejeuner-avec-le-centre-recreatif/
LOCATION:Centre Récréatif Du Lac Long\, 356\, Chemin Du Lac Long\, Blue Sea\, QC\, J0X 1C0\, Canada
END:VEVENT
END:VCALENDAR