BEGIN:VCALENDAR
VERSION:2.0
PRODID:-//CHGA - ECPv6.15.20//NONSGML v1.0//EN
CALSCALE:GREGORIAN
METHOD:PUBLISH
X-WR-CALNAME:CHGA
X-ORIGINAL-URL:https://www.chga.fm
X-WR-CALDESC:évènements pour CHGA
REFRESH-INTERVAL;VALUE=DURATION:PT1H
X-Robots-Tag:noindex
X-PUBLISHED-TTL:PT1H
BEGIN:VTIMEZONE
TZID:America/Toronto
BEGIN:DAYLIGHT
TZOFFSETFROM:-0500
TZOFFSETTO:-0400
TZNAME:EDT
DTSTART:20210314T070000
END:DAYLIGHT
BEGIN:STANDARD
TZOFFSETFROM:-0400
TZOFFSETTO:-0500
TZNAME:EST
DTSTART:20211107T060000
END:STANDARD
BEGIN:DAYLIGHT
TZOFFSETFROM:-0500
TZOFFSETTO:-0400
TZNAME:EDT
DTSTART:20220313T070000
END:DAYLIGHT
BEGIN:STANDARD
TZOFFSETFROM:-0400
TZOFFSETTO:-0500
TZNAME:EST
DTSTART:20221106T060000
END:STANDARD
BEGIN:DAYLIGHT
TZOFFSETFROM:-0500
TZOFFSETTO:-0400
TZNAME:EDT
DTSTART:20230312T070000
END:DAYLIGHT
BEGIN:STANDARD
TZOFFSETFROM:-0400
TZOFFSETTO:-0500
TZNAME:EST
DTSTART:20231105T060000
END:STANDARD
END:VTIMEZONE
BEGIN:VEVENT
DTSTART;TZID=America/Toronto:20220920T190000
DTEND;TZID=America/Toronto:20220920T190000
DTSTAMP:20260421T000107
CREATED:20220914T121730Z
LAST-MODIFIED:20220914T125542Z
UID:409383-1663700400-1663700400@www.chga.fm
SUMMARY:Danse en ligne avec le Club de danse Les Joyeux Danseurs
DESCRIPTION:Le club de danse Les Joyeux Danseurs désire vous informer que les cours de danse en ligne recommencent à la salle Mclaren au 801\, rue Alix à Mont-Laurier le mardi 20 septembre dès 19h pour les débutants et à 20h15 pour les intermédiaires et avancés. Svp\, arrivés 30 minutes d’avance pour les inscriptions. \n Pour les intéressés\, dès 19h le mercredi\, pratique pour tous les niveaux. \nPour plus d’informations\, communiquez avec Huguette Charette au 819-623-5639. \nBienvenue à tous !
URL:https://www.chga.fm/evenement/danse-en-ligne-avec-le-club-de-danse-les-joyeux-danseurs/
LOCATION:QC\, Canada
END:VEVENT
END:VCALENDAR