BEGIN:VCALENDAR
VERSION:2.0
PRODID:-//CHGA - ECPv6.15.20//NONSGML v1.0//EN
CALSCALE:GREGORIAN
METHOD:PUBLISH
X-WR-CALNAME:CHGA
X-ORIGINAL-URL:https://www.chga.fm
X-WR-CALDESC:évènements pour CHGA
REFRESH-INTERVAL;VALUE=DURATION:PT1H
X-Robots-Tag:noindex
X-PUBLISHED-TTL:PT1H
BEGIN:VTIMEZONE
TZID:America/Toronto
BEGIN:DAYLIGHT
TZOFFSETFROM:-0500
TZOFFSETTO:-0400
TZNAME:EDT
DTSTART:20210314T070000
END:DAYLIGHT
BEGIN:STANDARD
TZOFFSETFROM:-0400
TZOFFSETTO:-0500
TZNAME:EST
DTSTART:20211107T060000
END:STANDARD
BEGIN:DAYLIGHT
TZOFFSETFROM:-0500
TZOFFSETTO:-0400
TZNAME:EDT
DTSTART:20220313T070000
END:DAYLIGHT
BEGIN:STANDARD
TZOFFSETFROM:-0400
TZOFFSETTO:-0500
TZNAME:EST
DTSTART:20221106T060000
END:STANDARD
BEGIN:DAYLIGHT
TZOFFSETFROM:-0500
TZOFFSETTO:-0400
TZNAME:EDT
DTSTART:20230312T070000
END:DAYLIGHT
BEGIN:STANDARD
TZOFFSETFROM:-0400
TZOFFSETTO:-0500
TZNAME:EST
DTSTART:20231105T060000
END:STANDARD
END:VTIMEZONE
BEGIN:VEVENT
DTSTART;TZID=America/Toronto:20220621T180000
DTEND;TZID=America/Toronto:20220621T180000
DTSTAMP:20260421T051833
CREATED:20220525T193731Z
LAST-MODIFIED:20220525T193754Z
UID:402845-1655834400-1655834400@www.chga.fm
SUMMARY:Convocation CALACS
DESCRIPTION:À tous les membres du conseil d’administration et membres en règles seulement\, \nIl me fait plaisir de vous convoquer à l’assemblée générale annuelle 2022. L’assemblée sera tenue le mardi 21 juin 2022\, au Château Logue située au 12\, Rue Comeau à 18h. Veuillez noter que cette rencontre pourrait être convertie en ZOOM sans préavis\, selon les directives ministérielles. Nous désirons rappeler aux membres qu’il est nécessaire d’avoir acquitté les frais pour la carte de membre afin de se prévaloir d’un endroit de vote lors de l’assemblée générale annuelle\, au coût de 5$.
URL:https://www.chga.fm/evenement/convocation-calacs/
LOCATION:Château Logue Maniwaki\, 12 Rue Comeau\, Maniwaki\, QC\, J9E 2R8\, Canada
ORGANIZER;CN="CALACS":MAILTO:contact@calacsvg.com
END:VEVENT
END:VCALENDAR