BEGIN:VCALENDAR
VERSION:2.0
PRODID:-//CHGA - ECPv6.15.20//NONSGML v1.0//EN
CALSCALE:GREGORIAN
METHOD:PUBLISH
X-WR-CALNAME:CHGA
X-ORIGINAL-URL:https://www.chga.fm
X-WR-CALDESC:évènements pour CHGA
REFRESH-INTERVAL;VALUE=DURATION:PT1H
X-Robots-Tag:noindex
X-PUBLISHED-TTL:PT1H
BEGIN:VTIMEZONE
TZID:America/Toronto
BEGIN:DAYLIGHT
TZOFFSETFROM:-0500
TZOFFSETTO:-0400
TZNAME:EDT
DTSTART:20200308T070000
END:DAYLIGHT
BEGIN:STANDARD
TZOFFSETFROM:-0400
TZOFFSETTO:-0500
TZNAME:EST
DTSTART:20201101T060000
END:STANDARD
BEGIN:DAYLIGHT
TZOFFSETFROM:-0500
TZOFFSETTO:-0400
TZNAME:EDT
DTSTART:20210314T070000
END:DAYLIGHT
BEGIN:STANDARD
TZOFFSETFROM:-0400
TZOFFSETTO:-0500
TZNAME:EST
DTSTART:20211107T060000
END:STANDARD
BEGIN:DAYLIGHT
TZOFFSETFROM:-0500
TZOFFSETTO:-0400
TZNAME:EDT
DTSTART:20220313T070000
END:DAYLIGHT
BEGIN:STANDARD
TZOFFSETFROM:-0400
TZOFFSETTO:-0500
TZNAME:EST
DTSTART:20221106T060000
END:STANDARD
END:VTIMEZONE
BEGIN:VEVENT
DTSTART;TZID=America/Toronto:20211119T190000
DTEND;TZID=America/Toronto:20211119T190000
DTSTAMP:20260421T165902
CREATED:20211110T174739Z
LAST-MODIFIED:20211110T174739Z
UID:391506-1637348400-1637348400@www.chga.fm
SUMMARY:Comité des loisirs Val-Limoges – Bingo
DESCRIPTION:Le comité des loisirs de Val-Limoges vous invite à son bingo qui aura lieu le 19 novembre prochain à 19 h 00\, au centre communautaire de Val-Limoges.
URL:https://www.chga.fm/evenement/comite-des-loisirs-val-limoges-bingo-3/
LOCATION:Centre communautaire de Val-Limoges\, 3600 chemin de Val-Limoges\, Mont-Laurier\, QC\, J9L3G6\, Canada
END:VEVENT
END:VCALENDAR