BEGIN:VCALENDAR
VERSION:2.0
PRODID:-//CHGA - ECPv6.15.20//NONSGML v1.0//EN
CALSCALE:GREGORIAN
METHOD:PUBLISH
X-WR-CALNAME:CHGA
X-ORIGINAL-URL:https://www.chga.fm
X-WR-CALDESC:évènements pour CHGA
REFRESH-INTERVAL;VALUE=DURATION:PT1H
X-Robots-Tag:noindex
X-PUBLISHED-TTL:PT1H
BEGIN:VTIMEZONE
TZID:America/Toronto
BEGIN:DAYLIGHT
TZOFFSETFROM:-0500
TZOFFSETTO:-0400
TZNAME:EDT
DTSTART:20220313T070000
END:DAYLIGHT
BEGIN:STANDARD
TZOFFSETFROM:-0400
TZOFFSETTO:-0500
TZNAME:EST
DTSTART:20221106T060000
END:STANDARD
BEGIN:DAYLIGHT
TZOFFSETFROM:-0500
TZOFFSETTO:-0400
TZNAME:EDT
DTSTART:20230312T070000
END:DAYLIGHT
BEGIN:STANDARD
TZOFFSETFROM:-0400
TZOFFSETTO:-0500
TZNAME:EST
DTSTART:20231105T060000
END:STANDARD
BEGIN:DAYLIGHT
TZOFFSETFROM:-0500
TZOFFSETTO:-0400
TZNAME:EDT
DTSTART:20240310T070000
END:DAYLIGHT
BEGIN:STANDARD
TZOFFSETFROM:-0400
TZOFFSETTO:-0500
TZNAME:EST
DTSTART:20241103T060000
END:STANDARD
END:VTIMEZONE
BEGIN:VEVENT
DTSTART;TZID=America/Toronto:20230429T080000
DTEND;TZID=America/Toronto:20230429T170000
DTSTAMP:20260420T130409
CREATED:20230215T181653Z
LAST-MODIFIED:20230215T181653Z
UID:10016079-1682755200-1682787600@www.chga.fm
SUMMARY:Colloque sur les soins palliatifs - Albatros Mont-Laurer
DESCRIPTION:Albatros Mont-Laurier tiendra un Colloque sur les soins palliatifs le vendredi 28 et le samedi 29 avril 2023\, à l’Auberge L’Étape\, situé au 265\, Boulevard A.-Paquette à Mont-Laurier. Le coût des billets sont de 20$ pour le vendredi soir (spectavle « Nous\, c’est Clémence qu’on aime le mieux »\, par Les chanteuses du dimanche\, et conférence de M. Patrick Vinay) ou 100$ pour les vendredi et samedi. Le samedi : 4 conférenciers\, dîner\, souper et soirée sociale avec l’accordéoniste Denis Côté. On y soulignera le 404 anniversaire d’Albatros Mont-Laurier\, le 30e d’Albatros Maniwaki et le 10e d’Albatros Gatineau – La Lièvre. La date limite pour se procurer les billets est le lundi 10 avril 2023. \nPour toutes informations\, téléphonez au 819 623-1612.
URL:https://www.chga.fm/evenement/colloque-sur-les-soins-palliatifs-albatros-mont-laurer/2023-04-29/
LOCATION:QC\, Canada
END:VEVENT
END:VCALENDAR