BEGIN:VCALENDAR
VERSION:2.0
PRODID:-//CHGA - ECPv6.15.20//NONSGML v1.0//EN
CALSCALE:GREGORIAN
METHOD:PUBLISH
X-WR-CALNAME:CHGA
X-ORIGINAL-URL:https://www.chga.fm
X-WR-CALDESC:évènements pour CHGA
REFRESH-INTERVAL;VALUE=DURATION:PT1H
X-Robots-Tag:noindex
X-PUBLISHED-TTL:PT1H
BEGIN:VTIMEZONE
TZID:America/Toronto
BEGIN:DAYLIGHT
TZOFFSETFROM:-0500
TZOFFSETTO:-0400
TZNAME:EDT
DTSTART:20210314T070000
END:DAYLIGHT
BEGIN:STANDARD
TZOFFSETFROM:-0400
TZOFFSETTO:-0500
TZNAME:EST
DTSTART:20211107T060000
END:STANDARD
BEGIN:DAYLIGHT
TZOFFSETFROM:-0500
TZOFFSETTO:-0400
TZNAME:EDT
DTSTART:20220313T070000
END:DAYLIGHT
BEGIN:STANDARD
TZOFFSETFROM:-0400
TZOFFSETTO:-0500
TZNAME:EST
DTSTART:20221106T060000
END:STANDARD
BEGIN:DAYLIGHT
TZOFFSETFROM:-0500
TZOFFSETTO:-0400
TZNAME:EDT
DTSTART:20230312T070000
END:DAYLIGHT
BEGIN:STANDARD
TZOFFSETFROM:-0400
TZOFFSETTO:-0500
TZNAME:EST
DTSTART:20231105T060000
END:STANDARD
END:VTIMEZONE
BEGIN:VEVENT
DTSTART;TZID=America/Toronto:20220419T130000
DTEND;TZID=America/Toronto:20220419T200000
DTSTAMP:20260421T081311
CREATED:20220328T174123Z
LAST-MODIFIED:20220328T174123Z
UID:398976-1650373200-1650398400@www.chga.fm
SUMMARY:Collecte de Sang
DESCRIPTION:Les nombreux bénévoles de Maniwaki\, en collaboration avec les Caisses populaires de la Vallée-de-la-Gatineau\, la Ville et les Pompiers de Maniwaki\, la Sûreté du Québec et CHGA\, vous invitent à la collecte de sang qui se tiendra le mardi 19 avril\, entre 13 h et 20 h\, à l’Auberge du Draveur située au 85\, rue Principale Nord à Maniwaki. Les membres de l’équipe d’Héma-Québec espèrent y accueillir 115 donneurs. \nIl est également nécessaire de prendre rendez-vous avant de se présenter en collecte. \n Vous pouvez dorénavant réserver votre place en ligne en créant votre profil au : jedonne.hemaquebec.qc.ca/.  \nVous pouvez également contacter le 1 800 343-7264 (SANG). \nAvant de se présenter à une collecte\, il est possible de vérifier son admissibilité auprès du Service à la clientèle-donneurs au 1 800 847-2525ou de consulter le site Web d’HémaQuébec au www.hema-quebec.qc.ca\, section Donneurs > Sang > Puis-je donner?
URL:https://www.chga.fm/evenement/collecte-de-sang/
LOCATION:Auberge du draveur\, 85\, rue Principale Nord\, Maniwaki\, QC\, J9E 2B5\, Canada
END:VEVENT
END:VCALENDAR