BEGIN:VCALENDAR
VERSION:2.0
PRODID:-//CHGA - ECPv6.15.20//NONSGML v1.0//EN
CALSCALE:GREGORIAN
METHOD:PUBLISH
X-WR-CALNAME:CHGA
X-ORIGINAL-URL:https://www.chga.fm
X-WR-CALDESC:évènements pour CHGA
REFRESH-INTERVAL;VALUE=DURATION:PT1H
X-Robots-Tag:noindex
X-PUBLISHED-TTL:PT1H
BEGIN:VTIMEZONE
TZID:America/Toronto
BEGIN:DAYLIGHT
TZOFFSETFROM:-0500
TZOFFSETTO:-0400
TZNAME:EDT
DTSTART:20200308T070000
END:DAYLIGHT
BEGIN:STANDARD
TZOFFSETFROM:-0400
TZOFFSETTO:-0500
TZNAME:EST
DTSTART:20201101T060000
END:STANDARD
BEGIN:DAYLIGHT
TZOFFSETFROM:-0500
TZOFFSETTO:-0400
TZNAME:EDT
DTSTART:20210314T070000
END:DAYLIGHT
BEGIN:STANDARD
TZOFFSETFROM:-0400
TZOFFSETTO:-0500
TZNAME:EST
DTSTART:20211107T060000
END:STANDARD
BEGIN:DAYLIGHT
TZOFFSETFROM:-0500
TZOFFSETTO:-0400
TZNAME:EDT
DTSTART:20220313T070000
END:DAYLIGHT
BEGIN:STANDARD
TZOFFSETFROM:-0400
TZOFFSETTO:-0500
TZNAME:EST
DTSTART:20221106T060000
END:STANDARD
END:VTIMEZONE
BEGIN:VEVENT
DTSTART;TZID=America/Toronto:20210419T130000
DTEND;TZID=America/Toronto:20210419T200000
DTSTAMP:20260422T020507
CREATED:20210316T155723Z
LAST-MODIFIED:20210316T155723Z
UID:378086-1618837200-1618862400@www.chga.fm
SUMMARY:Collecte de sang de Maniwaki
DESCRIPTION:Les nombreux bénévoles de Maniwaki\, en collaboration avec les Caisses populaires de la Vallée-de-la-Gatineau\, la Ville et les pompiers de Maniwaki\, la Sûreté du Québec et CHGA invite toute personne qui souhaite faire un don de sang à réserver sa place à la collecte de sang qui se tiendra le lundi 19 avril prochain\, entre 13 h et 20 h\, à l’Auberge du Draveur (salle Épinette et Feuillue) située au 85\, rue Principale nord. L’objectif de cet évènement est de 115 donneurs.  \nIl est également nécessaire de prendre rendez-vous avant de se présenter en collecte en contactant le 1 800 343-7264 (SANG) ou en écrivant à jedonne@hema-quebec.qc.ca. \nHéma-Québec déploie de nombreuses mesures sur l’ensemble des sites de collecte\, notamment des contrôles de l’accès aux sites de collecte avec prise de température des donneurs et des bénévoles\, des mesures de désinfection supplémentaires et une organisation logistique des collectes revue afin de respecter les mesures de distanciation.
URL:https://www.chga.fm/evenement/collecte-de-sang-de-maniwaki-2/
LOCATION:QC\, Canada
END:VEVENT
END:VCALENDAR