BEGIN:VCALENDAR
VERSION:2.0
PRODID:-//CHGA - ECPv6.15.20//NONSGML v1.0//EN
CALSCALE:GREGORIAN
METHOD:PUBLISH
X-WR-CALNAME:CHGA
X-ORIGINAL-URL:https://www.chga.fm
X-WR-CALDESC:évènements pour CHGA
REFRESH-INTERVAL;VALUE=DURATION:PT1H
X-Robots-Tag:noindex
X-PUBLISHED-TTL:PT1H
BEGIN:VTIMEZONE
TZID:America/Toronto
BEGIN:DAYLIGHT
TZOFFSETFROM:-0500
TZOFFSETTO:-0400
TZNAME:EDT
DTSTART:20210314T070000
END:DAYLIGHT
BEGIN:STANDARD
TZOFFSETFROM:-0400
TZOFFSETTO:-0500
TZNAME:EST
DTSTART:20211107T060000
END:STANDARD
BEGIN:DAYLIGHT
TZOFFSETFROM:-0500
TZOFFSETTO:-0400
TZNAME:EDT
DTSTART:20220313T070000
END:DAYLIGHT
BEGIN:STANDARD
TZOFFSETFROM:-0400
TZOFFSETTO:-0500
TZNAME:EST
DTSTART:20221106T060000
END:STANDARD
BEGIN:DAYLIGHT
TZOFFSETFROM:-0500
TZOFFSETTO:-0400
TZNAME:EDT
DTSTART:20230312T070000
END:DAYLIGHT
BEGIN:STANDARD
TZOFFSETFROM:-0400
TZOFFSETTO:-0500
TZNAME:EST
DTSTART:20231105T060000
END:STANDARD
END:VTIMEZONE
BEGIN:VEVENT
DTSTART;TZID=America/Toronto:20221221T080000
DTEND;TZID=America/Toronto:20221221T160000
DTSTAMP:20260420T173704
CREATED:20221209T143013Z
LAST-MODIFIED:20221212T160855Z
UID:414652-1671609600-1671638400@www.chga.fm
SUMMARY:Collecte de denrées non périssables
DESCRIPTION:En cette période de réjouissance\, les Chevaliers de Colomb de Grand-Remous donneront des paniers de denrées non périssables aux gens dans le besoin de la municipalité de Grand-Remous seulement. Pour vous inscrire afin de recevoir un panier de Noël\, veuillez contacter Jean-Guy Séguin au 819 438-2142 ou Michel Guay au 819 334-2114. Les dons pourront être déposés à la municipalité de Grand-Remous du lundi au vendredi de 8h à 12h et de 13h à 16h. Vous avec jusqu’au 21 décembre 2022 pour venir donner vos denrées et jusqu’au 17 décembre 2022 pour vous inscrire.
URL:https://www.chga.fm/evenement/collecte-de-denrees-non-perissables/
LOCATION:QC\, Canada
END:VEVENT
END:VCALENDAR