BEGIN:VCALENDAR
VERSION:2.0
PRODID:-//CHGA - ECPv6.15.20//NONSGML v1.0//EN
CALSCALE:GREGORIAN
METHOD:PUBLISH
X-WR-CALNAME:CHGA
X-ORIGINAL-URL:https://www.chga.fm
X-WR-CALDESC:évènements pour CHGA
REFRESH-INTERVAL;VALUE=DURATION:PT1H
X-Robots-Tag:noindex
X-PUBLISHED-TTL:PT1H
BEGIN:VTIMEZONE
TZID:America/Toronto
BEGIN:DAYLIGHT
TZOFFSETFROM:-0500
TZOFFSETTO:-0400
TZNAME:EDT
DTSTART:20210314T070000
END:DAYLIGHT
BEGIN:STANDARD
TZOFFSETFROM:-0400
TZOFFSETTO:-0500
TZNAME:EST
DTSTART:20211107T060000
END:STANDARD
BEGIN:DAYLIGHT
TZOFFSETFROM:-0500
TZOFFSETTO:-0400
TZNAME:EDT
DTSTART:20220313T070000
END:DAYLIGHT
BEGIN:STANDARD
TZOFFSETFROM:-0400
TZOFFSETTO:-0500
TZNAME:EST
DTSTART:20221106T060000
END:STANDARD
BEGIN:DAYLIGHT
TZOFFSETFROM:-0500
TZOFFSETTO:-0400
TZNAME:EDT
DTSTART:20230312T070000
END:DAYLIGHT
BEGIN:STANDARD
TZOFFSETFROM:-0400
TZOFFSETTO:-0500
TZNAME:EST
DTSTART:20231105T060000
END:STANDARD
END:VTIMEZONE
BEGIN:VEVENT
DTSTART;TZID=America/Toronto:20221029T093000
DTEND;TZID=America/Toronto:20221029T130000
DTSTAMP:20260420T205022
CREATED:20221021T195517Z
LAST-MODIFIED:20221021T195517Z
UID:411788-1667035800-1667048400@www.chga.fm
SUMMARY:Collecte de canettes au profit de la fondation du rein
DESCRIPTION:Le samedi 29 octobre prochain\, il y aura une collecte de cannettes au profit de la fondation du rein au Métro Lapointe\, situé au 100\, rue Beaulieu à Maniwaki de 9h30 à 13h. 
URL:https://www.chga.fm/evenement/collecte-de-canettes-au-profit-de-la-fondation-du-rein-2/
LOCATION:Metro André Lapointe\, 100\, rue Beaulieu\, Maniwaki\, QC\, J9E 1A9\, Canada
END:VEVENT
END:VCALENDAR