BEGIN:VCALENDAR
VERSION:2.0
PRODID:-//CHGA - ECPv6.15.20//NONSGML v1.0//EN
CALSCALE:GREGORIAN
METHOD:PUBLISH
X-WR-CALNAME:CHGA
X-ORIGINAL-URL:https://www.chga.fm
X-WR-CALDESC:évènements pour CHGA
REFRESH-INTERVAL;VALUE=DURATION:PT1H
X-Robots-Tag:noindex
X-PUBLISHED-TTL:PT1H
BEGIN:VTIMEZONE
TZID:America/Toronto
BEGIN:DAYLIGHT
TZOFFSETFROM:-0500
TZOFFSETTO:-0400
TZNAME:EDT
DTSTART:20230312T070000
END:DAYLIGHT
BEGIN:STANDARD
TZOFFSETFROM:-0400
TZOFFSETTO:-0500
TZNAME:EST
DTSTART:20231105T060000
END:STANDARD
BEGIN:DAYLIGHT
TZOFFSETFROM:-0500
TZOFFSETTO:-0400
TZNAME:EDT
DTSTART:20240310T070000
END:DAYLIGHT
BEGIN:STANDARD
TZOFFSETFROM:-0400
TZOFFSETTO:-0500
TZNAME:EST
DTSTART:20241103T060000
END:STANDARD
BEGIN:DAYLIGHT
TZOFFSETFROM:-0500
TZOFFSETTO:-0400
TZNAME:EDT
DTSTART:20250309T070000
END:DAYLIGHT
BEGIN:STANDARD
TZOFFSETFROM:-0400
TZOFFSETTO:-0500
TZNAME:EST
DTSTART:20251102T060000
END:STANDARD
END:VTIMEZONE
BEGIN:VEVENT
DTSTART;TZID=America/Toronto:20240330T130000
DTEND;TZID=America/Toronto:20240330T190000
DTSTAMP:20260423T173824
CREATED:20240326T165208Z
LAST-MODIFIED:20240326T165208Z
UID:441469-1711803600-1711825200@www.chga.fm
SUMMARY:Club de Patinage Artistique Élan Maniwaki / Spectacle Annuel
DESCRIPTION:Le samedi 30 mars 2024\, le club de patinage artistique Élan de Maniwaki présentera son spectacle annuel sous le thème de « La mode d’hier à aujourd’hui ». \nLe coût par billet est de 15$ pour l’admission générale et de 10$ pour les étudiants de 6 à 17 ans. \nL’entrée est gratuite pour les enfants de 5 ans et moins. \nDeux représentations seront offertes\, une à 13h et une autre à 19h. \nLes billets sont en vente au Resto Sportif de l’aréna. \nIls seront aussi disponibles à l’entrée principale du Centre Gino-Odjick le jour même du spectacle. \nVenez encourager nos patineurs et patineuses! \nBIENVENUE À TOUS!
URL:https://www.chga.fm/evenement/club-de-patinage-artistique-elan-maniwaki-spectacle-annuel/
LOCATION:QC\, Canada
END:VEVENT
END:VCALENDAR