BEGIN:VCALENDAR
VERSION:2.0
PRODID:-//CHGA - ECPv6.15.20//NONSGML v1.0//EN
CALSCALE:GREGORIAN
METHOD:PUBLISH
X-WR-CALNAME:CHGA
X-ORIGINAL-URL:https://www.chga.fm
X-WR-CALDESC:évènements pour CHGA
REFRESH-INTERVAL;VALUE=DURATION:PT1H
X-Robots-Tag:noindex
X-PUBLISHED-TTL:PT1H
BEGIN:VTIMEZONE
TZID:America/Toronto
BEGIN:DAYLIGHT
TZOFFSETFROM:-0500
TZOFFSETTO:-0400
TZNAME:EDT
DTSTART:20200308T070000
END:DAYLIGHT
BEGIN:STANDARD
TZOFFSETFROM:-0400
TZOFFSETTO:-0500
TZNAME:EST
DTSTART:20201101T060000
END:STANDARD
BEGIN:DAYLIGHT
TZOFFSETFROM:-0500
TZOFFSETTO:-0400
TZNAME:EDT
DTSTART:20210314T070000
END:DAYLIGHT
BEGIN:STANDARD
TZOFFSETFROM:-0400
TZOFFSETTO:-0500
TZNAME:EST
DTSTART:20211107T060000
END:STANDARD
BEGIN:DAYLIGHT
TZOFFSETFROM:-0500
TZOFFSETTO:-0400
TZNAME:EDT
DTSTART:20220313T070000
END:DAYLIGHT
BEGIN:STANDARD
TZOFFSETFROM:-0400
TZOFFSETTO:-0500
TZNAME:EST
DTSTART:20221106T060000
END:STANDARD
END:VTIMEZONE
BEGIN:VEVENT
DTSTART;TZID=America/Toronto:20211107T110000
DTEND;TZID=America/Toronto:20211107T190000
DTSTAMP:20260421T153049
CREATED:20211112T154141Z
LAST-MODIFIED:20211112T154141Z
UID:10015324-1636282800-1636311600@www.chga.fm
SUMMARY:Clinique de vaccination contre la grippe – Low
DESCRIPTION:La clinique de vaccination contre la grippe est maintenant disponible. Celle-ci se déroulera au CLSC de Low\, situé au 334\, route 105 à Low\, lors des dates suivantes: \n– 7 novembre 2021\, de 11 h 00 à 19 h 00 \n– 21 novembre 2021\, de 11 h 00 à 19 h 00 \n– 5 décembre 2021\, de 11 h 00 à 19 h 00 \nPour plus d’information sur la vaccination en Outaouais\, vous pouvez consulter le: cisss-outaouais.gouv.qc.ca/vaccination-contre-la-grippe-2021
URL:https://www.chga.fm/evenement/clinique-de-vaccination-contre-la-grippe-low/2021-11-07/
LOCATION:CLSC de Low\, 334\, route 105\, Low\, QC\, J0X 2C0\, Canada
END:VEVENT
END:VCALENDAR