BEGIN:VCALENDAR
VERSION:2.0
PRODID:-//CHGA - ECPv6.15.20//NONSGML v1.0//EN
CALSCALE:GREGORIAN
METHOD:PUBLISH
X-WR-CALNAME:CHGA
X-ORIGINAL-URL:https://www.chga.fm
X-WR-CALDESC:évènements pour CHGA
REFRESH-INTERVAL;VALUE=DURATION:PT1H
X-Robots-Tag:noindex
X-PUBLISHED-TTL:PT1H
BEGIN:VTIMEZONE
TZID:America/Toronto
BEGIN:DAYLIGHT
TZOFFSETFROM:-0500
TZOFFSETTO:-0400
TZNAME:EDT
DTSTART:20200308T070000
END:DAYLIGHT
BEGIN:STANDARD
TZOFFSETFROM:-0400
TZOFFSETTO:-0500
TZNAME:EST
DTSTART:20201101T060000
END:STANDARD
BEGIN:DAYLIGHT
TZOFFSETFROM:-0500
TZOFFSETTO:-0400
TZNAME:EDT
DTSTART:20210314T070000
END:DAYLIGHT
BEGIN:STANDARD
TZOFFSETFROM:-0400
TZOFFSETTO:-0500
TZNAME:EST
DTSTART:20211107T060000
END:STANDARD
BEGIN:DAYLIGHT
TZOFFSETFROM:-0500
TZOFFSETTO:-0400
TZNAME:EDT
DTSTART:20220313T070000
END:DAYLIGHT
BEGIN:STANDARD
TZOFFSETFROM:-0400
TZOFFSETTO:-0500
TZNAME:EST
DTSTART:20221106T060000
END:STANDARD
END:VTIMEZONE
BEGIN:VEVENT
DTSTART;TZID=America/Toronto:20211105T110000
DTEND;TZID=America/Toronto:20211105T190000
DTSTAMP:20260421T153105
CREATED:20211112T153908Z
LAST-MODIFIED:20211203T204148Z
UID:10015319-1636110000-1636138800@www.chga.fm
SUMMARY:Clinique de vaccination contre la grippe - Gracefield
DESCRIPTION:La clinique de vaccination contre la grippe (Influenza) est maintenant disponible. \nCelle-ci se déroulera au CLSC de Gracefield\, situé au 12-A\, rue Principale à Gracefield\, lors des dates suivantes: \n– 8 décembre 2021\, de 16h00 à 20h00 \n– 12 décembre 2021\, de 11 h 00 à 19 h 00 \nPour plus d’information sur la vaccination en Outaouais\, vous pouvez consulter le: cisss-outaouais.gouv.qc.ca/vaccination-contre-la-grippe-2021   ou composez le 1-844 351-6277
URL:https://www.chga.fm/evenement/clinique-de-vaccination-contre-la-grippe-gracefield/2021-11-05/
LOCATION:CLSC de Gracefield\, 12-A\, rue Principale\, Gracefield\, QC\, J0V 1W0\, Canada
END:VEVENT
END:VCALENDAR