BEGIN:VCALENDAR
VERSION:2.0
PRODID:-//CHGA - ECPv6.15.20//NONSGML v1.0//EN
CALSCALE:GREGORIAN
METHOD:PUBLISH
X-WR-CALNAME:CHGA
X-ORIGINAL-URL:https://www.chga.fm
X-WR-CALDESC:évènements pour CHGA
REFRESH-INTERVAL;VALUE=DURATION:PT1H
X-Robots-Tag:noindex
X-PUBLISHED-TTL:PT1H
BEGIN:VTIMEZONE
TZID:America/Toronto
BEGIN:DAYLIGHT
TZOFFSETFROM:-0500
TZOFFSETTO:-0400
TZNAME:EDT
DTSTART:20190310T070000
END:DAYLIGHT
BEGIN:STANDARD
TZOFFSETFROM:-0400
TZOFFSETTO:-0500
TZNAME:EST
DTSTART:20191103T060000
END:STANDARD
BEGIN:DAYLIGHT
TZOFFSETFROM:-0500
TZOFFSETTO:-0400
TZNAME:EDT
DTSTART:20200308T070000
END:DAYLIGHT
BEGIN:STANDARD
TZOFFSETFROM:-0400
TZOFFSETTO:-0500
TZNAME:EST
DTSTART:20201101T060000
END:STANDARD
BEGIN:DAYLIGHT
TZOFFSETFROM:-0500
TZOFFSETTO:-0400
TZNAME:EDT
DTSTART:20210314T070000
END:DAYLIGHT
BEGIN:STANDARD
TZOFFSETFROM:-0400
TZOFFSETTO:-0500
TZNAME:EST
DTSTART:20211107T060000
END:STANDARD
END:VTIMEZONE
BEGIN:VEVENT
DTSTART;TZID=America/Toronto:20200926T190000
DTEND;TZID=America/Toronto:20200926T190000
DTSTAMP:20260422T125727
CREATED:20200923T120158Z
LAST-MODIFIED:20200923T120158Z
UID:369801-1601146800-1601146800@www.chga.fm
SUMMARY:Chevaliers de colomb\, conseil 3063 - Réunion mensuelle
DESCRIPTION:Les Chevaliers de colomb\, conseil 3063\, invite ses membres à une réunion mensuelle qui se tiendra le samedi 26 septembre à 19 h\, au centre plein air du lac Grenon. \nLe port du masque sera obligatoire tout comme les mesures de distanciations.
URL:https://www.chga.fm/evenement/chevaliers-de-colomb-conseil-3063-reunion-mensuelle/
LOCATION:Centre plein air du Lac Grenon\, 16\, chemin du lac Grenon\, Messines\, QC\, J0x 2J0\, Canada
END:VEVENT
END:VCALENDAR