BEGIN:VCALENDAR
VERSION:2.0
PRODID:-//CHGA - ECPv6.15.20//NONSGML v1.0//EN
CALSCALE:GREGORIAN
METHOD:PUBLISH
X-WR-CALNAME:CHGA
X-ORIGINAL-URL:https://www.chga.fm
X-WR-CALDESC:évènements pour CHGA
REFRESH-INTERVAL;VALUE=DURATION:PT1H
X-Robots-Tag:noindex
X-PUBLISHED-TTL:PT1H
BEGIN:VTIMEZONE
TZID:America/Toronto
BEGIN:DAYLIGHT
TZOFFSETFROM:-0500
TZOFFSETTO:-0400
TZNAME:EDT
DTSTART:20210314T070000
END:DAYLIGHT
BEGIN:STANDARD
TZOFFSETFROM:-0400
TZOFFSETTO:-0500
TZNAME:EST
DTSTART:20211107T060000
END:STANDARD
BEGIN:DAYLIGHT
TZOFFSETFROM:-0500
TZOFFSETTO:-0400
TZNAME:EDT
DTSTART:20220313T070000
END:DAYLIGHT
BEGIN:STANDARD
TZOFFSETFROM:-0400
TZOFFSETTO:-0500
TZNAME:EST
DTSTART:20221106T060000
END:STANDARD
BEGIN:DAYLIGHT
TZOFFSETFROM:-0500
TZOFFSETTO:-0400
TZNAME:EDT
DTSTART:20230312T070000
END:DAYLIGHT
BEGIN:STANDARD
TZOFFSETFROM:-0400
TZOFFSETTO:-0500
TZNAME:EST
DTSTART:20231105T060000
END:STANDARD
END:VTIMEZONE
BEGIN:VEVENT
DTSTART;TZID=America/Toronto:20220704T183000
DTEND;TZID=America/Toronto:20220704T193000
DTSTAMP:20260421T033444
CREATED:20220629T125753Z
LAST-MODIFIED:20220704T132839Z
UID:405633-1656959400-1656963000@www.chga.fm
SUMMARY:Chevaliers de Colomb Conseil 3063 - Réunion Mensuel
DESCRIPTION:Les membres du conseil 3063 sont invitées à la réunion mensuelle qui se tiendra lundi le 4 juillet 2022  à 18h30.  \nLa rencontre aura lieu à l’église Assomption de Marie dans la salle de réunion.
URL:https://www.chga.fm/evenement/chevaliers-de-colomb-conseil-3063-reunion-mensuel/
LOCATION:Église L’Assomption de Maniwaki\, 326\, rue du Couvent\, Maniwaki\, QC\, J9E 1H4\, Canada
END:VEVENT
END:VCALENDAR