BEGIN:VCALENDAR
VERSION:2.0
PRODID:-//CHGA - ECPv6.15.20//NONSGML v1.0//EN
CALSCALE:GREGORIAN
METHOD:PUBLISH
X-WR-CALNAME:CHGA
X-ORIGINAL-URL:https://www.chga.fm
X-WR-CALDESC:évènements pour CHGA
REFRESH-INTERVAL;VALUE=DURATION:PT1H
X-Robots-Tag:noindex
X-PUBLISHED-TTL:PT1H
BEGIN:VTIMEZONE
TZID:America/Toronto
BEGIN:DAYLIGHT
TZOFFSETFROM:-0500
TZOFFSETTO:-0400
TZNAME:EDT
DTSTART:20200308T070000
END:DAYLIGHT
BEGIN:STANDARD
TZOFFSETFROM:-0400
TZOFFSETTO:-0500
TZNAME:EST
DTSTART:20201101T060000
END:STANDARD
BEGIN:DAYLIGHT
TZOFFSETFROM:-0500
TZOFFSETTO:-0400
TZNAME:EDT
DTSTART:20210314T070000
END:DAYLIGHT
BEGIN:STANDARD
TZOFFSETFROM:-0400
TZOFFSETTO:-0500
TZNAME:EST
DTSTART:20211107T060000
END:STANDARD
BEGIN:DAYLIGHT
TZOFFSETFROM:-0500
TZOFFSETTO:-0400
TZNAME:EDT
DTSTART:20220313T070000
END:DAYLIGHT
BEGIN:STANDARD
TZOFFSETFROM:-0400
TZOFFSETTO:-0500
TZNAME:EST
DTSTART:20221106T060000
END:STANDARD
END:VTIMEZONE
BEGIN:VEVENT
DTSTART;TZID=America/Toronto:20211219T110000
DTEND;TZID=America/Toronto:20211219T120000
DTSTAMP:20260421T140334
CREATED:20211130T131305Z
LAST-MODIFIED:20211130T131305Z
UID:392536-1639911600-1639915200@www.chga.fm
SUMMARY:Chevaliers de Colomb conseil 2410 - Inauguration de la nouvelle crèche de Noël
DESCRIPTION:Les Chevaliers de Colomb vous invitent à l’inauguration de la nouvelle crèche de Noël de la Cathédrale le dimanche 19 décembre à la messe de 11h00.
URL:https://www.chga.fm/evenement/chevaliers-de-colomb-conseil-2410-inauguration-de-la-nouvelle-creche-de-noel/
LOCATION:Cathédrale de Mont-Laurier\, 541\, rue du Pont\, Mont-Laurier\, QC\, J9L 2S2\, Canada
END:VEVENT
END:VCALENDAR