BEGIN:VCALENDAR
VERSION:2.0
PRODID:-//CHGA - ECPv6.15.20//NONSGML v1.0//EN
CALSCALE:GREGORIAN
METHOD:PUBLISH
X-WR-CALNAME:CHGA
X-ORIGINAL-URL:https://www.chga.fm
X-WR-CALDESC:évènements pour CHGA
REFRESH-INTERVAL;VALUE=DURATION:PT1H
X-Robots-Tag:noindex
X-PUBLISHED-TTL:PT1H
BEGIN:VTIMEZONE
TZID:America/Toronto
BEGIN:DAYLIGHT
TZOFFSETFROM:-0500
TZOFFSETTO:-0400
TZNAME:EDT
DTSTART:20210314T070000
END:DAYLIGHT
BEGIN:STANDARD
TZOFFSETFROM:-0400
TZOFFSETTO:-0500
TZNAME:EST
DTSTART:20211107T060000
END:STANDARD
BEGIN:DAYLIGHT
TZOFFSETFROM:-0500
TZOFFSETTO:-0400
TZNAME:EDT
DTSTART:20220313T070000
END:DAYLIGHT
BEGIN:STANDARD
TZOFFSETFROM:-0400
TZOFFSETTO:-0500
TZNAME:EST
DTSTART:20221106T060000
END:STANDARD
BEGIN:DAYLIGHT
TZOFFSETFROM:-0500
TZOFFSETTO:-0400
TZNAME:EDT
DTSTART:20230312T070000
END:DAYLIGHT
BEGIN:STANDARD
TZOFFSETFROM:-0400
TZOFFSETTO:-0500
TZNAME:EST
DTSTART:20231105T060000
END:STANDARD
END:VTIMEZONE
BEGIN:VEVENT
DTSTART;TZID=America/Toronto:20220311T190000
DTEND;TZID=America/Toronto:20220311T200000
DTSTAMP:20260421T094107
CREATED:20220304T172703Z
LAST-MODIFIED:20220304T172703Z
UID:397440-1647025200-1647028800@www.chga.fm
SUMMARY:Chevaliers de Colomb\, conseil 11973 - Assemblée mensuelle
DESCRIPTION:Les Chevaliers de Colomb de Maniwaki\, conseil 11973\, invitent ses membres à l’assemblée mensuelle qui aura lieu le vendredi 11 mars prochain\, à 19 h 00\, en haut de la Paroisse l’Assomption de Maniwaki.
URL:https://www.chga.fm/evenement/chevaliers-de-colomb-conseil-11973-assemblee-mensuelle/
LOCATION:Église L’Assomption de Maniwaki\, 326\, rue du Couvent\, Maniwaki\, QC\, J9E 1H4\, Canada
END:VEVENT
END:VCALENDAR